BEGIN:VCALENDAR
VERSION:2.0
PRODID:-//ChamberMaster//Event Calendar 2.0//EN
METHOD:PUBLISH
X-PUBLISHED-TTL:P3D
REFRESH-INTERVAL:P3D
CALSCALE:GREGORIAN
BEGIN:VEVENT
DTSTART:20180316T000000Z
DTEND:20180316T030000Z
X-MICROSOFT-CDO-ALLDAYEVENT:FALSE
SUMMARY:Bad Bunny: La Nueva Religion Tour
DESCRIPTION:
X-ALT-DESC;FMTTYPE=text/html:
LOCATION:Santander Arena
UID:e.2183.850235
SEQUENCE:3
DTSTAMP:20260421T143032Z
URL:https://business.tricountyareachamber.com/events/details/bad-bunny-la-nueva-religion-tour-850235
END:VEVENT

END:VCALENDAR
