BEGIN:VCALENDAR
VERSION:2.0
PRODID:-//ChamberMaster//Event Calendar 2.0//EN
METHOD:PUBLISH
X-PUBLISHED-TTL:P3D
REFRESH-INTERVAL:P3D
CALSCALE:GREGORIAN
BEGIN:VEVENT
DTSTART:20170208T000000Z
DTEND:20170208T030000Z
X-MICROSOFT-CDO-ALLDAYEVENT:FALSE
SUMMARY:Basic Wine Chemistry
DESCRIPTION:In this course we'll examine in layman's terms the basic components of wine chemistry. We'll discuss sugar and sulfate levels\, pH\, and total acidity to understand how they relate to one another. Our goal is not to make you a chemist\, but to teach you how to make good wine. Learn how to make an enjoyable wine you'll be proud to serve and call your own.\n \n\nVisit mc3.edu/homeartisans for more information or call 610.718.1944 (select option #2\, then #4 to register now!)
X-ALT-DESC;FMTTYPE=text/html:<span style="color: rgb(101\, 101\, 101)\; font-family: Arial\, Helvetica\, sans-serif\; font-size: 14px\; background-color: rgb(255\, 255\, 255)\;">In this course we&#39\;ll examine in layman&#39\;s terms the basic components of wine chemistry. We&#39\;ll discuss sugar and sulfate levels\, pH\, and total acidity to understand how they relate to one another. Our goal is not to make you a chemist\, but to teach you how to make good wine. Learn how to make an enjoyable wine you&#39\;ll be proud to serve and call your own.</span>\n<div>&nbsp\;</div>\n\n<div><span style="color: rgb(101\, 101\, 101)\; font-family: Arial\, Helvetica\, sans-serif\; font-size: 14px\; background-color: rgb(255\, 255\, 255)\;">Visit <a href="http://www.mc3.edu/component/content/article/96-campus-life/9823-home-artisans">mc3.edu/homeartisans</a> for more information or call 610.718.1944 (select option #2\, then #4 to register now!)</span></div>\n
LOCATION:Weak Knee 1277 North Charlotte Street Pottstown\, PA 19464
UID:e.2183.847401
SEQUENCE:3
DTSTAMP:20260420T163925Z
URL:https://business.tricountyareachamber.com/events/details/basic-wine-chemistry-847401
END:VEVENT

END:VCALENDAR
