BEGIN:VCALENDAR
VERSION:2.0
PRODID:-//ChamberMaster//Event Calendar 2.0//EN
METHOD:PUBLISH
X-PUBLISHED-TTL:P3D
REFRESH-INTERVAL:P3D
CALSCALE:GREGORIAN
BEGIN:VEVENT
DTSTART:20171109T000000Z
DTEND:20171109T030000Z
X-MICROSOFT-CDO-ALLDAYEVENT:FALSE
SUMMARY:Benyaro: Featuring Ben Musser
DESCRIPTION:The Pottstown Chapter of the Alumni Association invites you to a special evening of music with Ben Musser '97\, who recently released his third original\, full-length album\, One Step Ahead of Your Past. Opening for him is Jason Wilber\, recently named one of Rolling Stone's "10 New Country Artists You Need to Know."\n\n\n\nCocktails and hors d'oeuvres will be provided\n\n\n\nThis is an evening of music you will not want to miss!
X-ALT-DESC;FMTTYPE=text/html:<span class="_4n-j _3cht fsl" data-testid="event-permalink-details">The Pottstown Chapter of the Alumni Association invites you to a special evening of music with Ben Musser &#39\;97\, who recently released his third original\, full-length album\, One Step Ahead of Your Past. Opening for him is Jason Wilber\, recently named one of Rolling Stone&rsquo\;s &quot\;10 New Country Artists You Need to Know.&quot\;<br />\n<br />\nCocktails and hors d&#39\;oeuvres will be provided<br />\n<br />\nThis is an evening of music you will not want to miss!</span>
LOCATION:The Hill School Center for the Arts 860 Beech Street Pottstown\, PA 19464
UID:e.2183.848888
SEQUENCE:3
DTSTAMP:20260421T060813Z
URL:https://business.tricountyareachamber.com/events/details/benyaro-featuring-ben-musser-848888
END:VEVENT

END:VCALENDAR
