BEGIN:VCALENDAR
VERSION:2.0
PRODID:-//ChamberMaster//Event Calendar 2.0//EN
METHOD:PUBLISH
X-PUBLISHED-TTL:P3D
REFRESH-INTERVAL:P3D
CALSCALE:GREGORIAN
BEGIN:VEVENT
DTSTART:20180208T220000Z
DTEND:20180209T010000Z
X-MICROSOFT-CDO-ALLDAYEVENT:FALSE
SUMMARY:Berks-Fire-Water-Restoration Open House
DESCRIPTION:Berks Fire Water Restoration will be holding an open house to discover their business and learn more about their operation.
X-ALT-DESC;FMTTYPE=text/html:Berks Fire Water Restoration will be holding an open house to discover their business and learn more about their operation.
LOCATION:1145 Commons Blvd Reading\, PA 19605
UID:e.2183.849145
SEQUENCE:3
DTSTAMP:20260421T123814Z
URL:https://business.tricountyareachamber.com/events/details/berks-fire-water-restoration-open-house-849145
END:VEVENT

END:VCALENDAR
