BEGIN:VCALENDAR
VERSION:2.0
PRODID:-//ChamberMaster//Event Calendar 2.0//EN
METHOD:PUBLISH
X-PUBLISHED-TTL:P3D
REFRESH-INTERVAL:P3D
CALSCALE:GREGORIAN
BEGIN:VEVENT
DTSTART:20161214T133000Z
DTEND:20161214T150000Z
X-MICROSOFT-CDO-ALLDAYEVENT:FALSE
SUMMARY:"Best Places to Work" Workshop
DESCRIPTION:An informative and practical presentation by several Member companies who have recently and repeatedly been named to the PA Best Places to Work list. \n\n\n\nRepresentatives from Diamond Credit Union (#66 in 2016)\; Gateway Ticketing Systems\, Inc. (#64 in 2015)\; Sealstrip Corporation (#6 in 2016)\; and Traffic Planning and Design\, Inc. (#22 in 2016) will share their ideas for engaging your workforce\, and in turn increasing customer satisfaction\, sales and profitability.
X-ALT-DESC;FMTTYPE=text/html:An informative and practical presentation by several Member companies who have recently and repeatedly been named to the&nbsp\;<strong>PA Best Places to Work</strong>&nbsp\;list.&nbsp\;<br />\n<br />\nRepresentatives from&nbsp\;<strong>Diamond Credit Union (#66 in 2016)\; Gateway Ticketing Systems\, Inc. (#64 in 2015)\; Sealstrip Corporation (#6 in 2016)\;&nbsp\;</strong>and&nbsp\;<strong>Traffic Planning and Design\, Inc. (#22 in 2016)</strong>&nbsp\;will share their ideas for engaging your workforce\, and in turn increasing customer satisfaction\, sales and profitability.
LOCATION:TriCounty Area Chamber of Commerce 152 E. High St.\, Suite 360 Pottstown\, PA 19464
UID:e.2183.847300
SEQUENCE:3
DTSTAMP:20260420T115137Z
URL:https://business.tricountyareachamber.com/events/details/best-places-to-work-workshop-847300
END:VEVENT

END:VCALENDAR
