BEGIN:VCALENDAR
VERSION:2.0
PRODID:-//ChamberMaster//Event Calendar 2.0//EN
METHOD:PUBLISH
X-PUBLISHED-TTL:P3D
REFRESH-INTERVAL:P3D
CALSCALE:GREGORIAN
BEGIN:VEVENT
DTSTART:20180224T180000Z
DTEND:20180224T203000Z
X-MICROSOFT-CDO-ALLDAYEVENT:FALSE
SUMMARY:Black Heritage Celebration
DESCRIPTION:PEAK invites families to recognize Black individuals who have made an impact in the community and celebrate Black heritage through student performances\, music\, and crafts. There will be a free meal and a gift for every child who attends.
X-ALT-DESC;FMTTYPE=text/html:<a href="http://www.pottstownpeak.org/" style="background: rgb(255\, 255\, 255)\; text-decoration-line: none\; color: rgb(61\, 153\, 145)\; word-wrap: break-word\; font-family: adobe-garamond-pro\; font-size: 18px\;">PEAK&nbsp\;</a><span style="background-color:rgb(255\, 255\, 255)\; color:rgba(26\, 26\, 26\, 0.7)\; font-family:adobe-garamond-pro\; font-size:18px">invites families to recognize Black individuals who have made an impact in the community and celebrate Black heritage through student performances\, music\, and crafts. There will be a free meal and a gift for every child who attends.&nbsp\;</span>
LOCATION:YWCA Tri-County Area 315 King St. Pottstown \, Pa 19464
UID:e.2183.849141
SEQUENCE:3
DTSTAMP:20260421T110223Z
URL:https://business.tricountyareachamber.com/events/details/black-heritage-celebration-849141
END:VEVENT

END:VCALENDAR
