BEGIN:VCALENDAR
VERSION:2.0
PRODID:-//ChamberMaster//Event Calendar 2.0//EN
METHOD:PUBLISH
X-PUBLISHED-TTL:P3D
REFRESH-INTERVAL:P3D
CALSCALE:GREGORIAN
BEGIN:VEVENT
DTSTART:20161120T010000Z
DTEND:20161120T040000Z
X-MICROSOFT-CDO-ALLDAYEVENT:FALSE
SUMMARY:Black Jacket Symphony\; Pink Floyd Dark Side of the Moon
DESCRIPTION:
X-ALT-DESC;FMTTYPE=text/html:
LOCATION:Santander Performing Arts Center in Reading\, Pa
UID:e.2183.846074
SEQUENCE:3
DTSTAMP:20260422T114114Z
URL:https://business.tricountyareachamber.com/events/details/black-jacket-symphony-pink-floyd-dark-side-of-the-moon-11-19-2016-846074
END:VEVENT

END:VCALENDAR
