BEGIN:VCALENDAR
VERSION:2.0
PRODID:-//ChamberMaster//Event Calendar 2.0//EN
METHOD:PUBLISH
X-PUBLISHED-TTL:P3D
REFRESH-INTERVAL:P3D
CALSCALE:GREGORIAN
BEGIN:VEVENT
DTSTART:20171028T140000Z
DTEND:20171028T180000Z
X-MICROSOFT-CDO-ALLDAYEVENT:FALSE
SUMMARY:Blacksmithing Day
DESCRIPTION:Blacksmithing demos\, presentations\, fall refreshments and more in the 1872 Jeremiah Sweinhart Carriage Factory. For more info call 610-367-2090 or www.boyertownmuseum.org
X-ALT-DESC;FMTTYPE=text/html:Blacksmithing demos\, presentations\, fall refreshments and more in the 1872 Jeremiah Sweinhart Carriage Factory. For more info call 610-367-2090 or www.boyertownmuseum.org
LOCATION:85 S. Walnut Street Boyertown\, PA 19512
UID:e.2183.848793
SEQUENCE:3
DTSTAMP:20260421T042330Z
URL:https://business.tricountyareachamber.com/events/details/blacksmithing-day-848793
END:VEVENT

END:VCALENDAR
