BEGIN:VCALENDAR
VERSION:2.0
PRODID:-//ChamberMaster//Event Calendar 2.0//EN
METHOD:PUBLISH
X-PUBLISHED-TTL:P3D
REFRESH-INTERVAL:P3D
CALSCALE:GREGORIAN
BEGIN:VEVENT
DTSTART:20170629T130000Z
DTEND:20170629T200000Z
X-MICROSOFT-CDO-ALLDAYEVENT:FALSE
SUMMARY:Blood Drive
DESCRIPTION:Rep. Marcy Toepel is inviting residents to a Miller-Keystone Blood Drive on Thursday\, June 29\, anytime between 9 AM and 4 Pm at her district office. \n\n\n\nAll donors receive a free car wash at Adam's Royal Car Wash.\n\n\n\nTo donate blood\, call Lynn at Toepel's district office - 610.323.3299 to schedule a donor appointment\, which is necessary to participate. \n\n\n\nDonors must be 16 or older\, weigh over 110 pounds\, and have valid ID day of blood drive.
X-ALT-DESC;FMTTYPE=text/html:Rep. Marcy Toepel is inviting residents to a Miller-Keystone Blood Drive on Thursday\, June 29\, anytime between 9 AM and 4 Pm at her district office.&nbsp\;<br />\n<br />\nAll donors receive a free car wash at Adam&#39\;s Royal Car Wash.<br />\n<br />\nTo&nbsp\;donate blood\, call Lynn at Toepel&#39\;s district office - 610.323.3299 to schedule a donor&nbsp\;appointment\, which is necessary to participate.&nbsp\;<br />\n<br />\n<em><strong>Donors must be 16 or older\, weigh over 110 pounds\, and have valid ID day of blood drive.&nbsp\;</strong></em>
LOCATION:Marcy Toepel's District Office 1885 Swamp Pike Road\, Suite 107 Gilbertsville\, PA 19525
UID:e.2183.847699
SEQUENCE:3
DTSTAMP:20260420T213417Z
URL:https://business.tricountyareachamber.com/events/details/blood-drive-847699
END:VEVENT

END:VCALENDAR
