BEGIN:VCALENDAR
VERSION:2.0
PRODID:-//ChamberMaster//Event Calendar 2.0//EN
METHOD:PUBLISH
X-PUBLISHED-TTL:P3D
REFRESH-INTERVAL:P3D
CALSCALE:GREGORIAN
BEGIN:VEVENT
DTSTART:20260321T230000Z
DTEND:20260322T010000Z
X-MICROSOFT-CDO-ALLDAYEVENT:FALSE
SUMMARY:Bluffett & The Son of a Sailor Band
DESCRIPTION:Tickets on sale now for Bluffett & The Son of a Sailor Band a tribute band dedicated to the legendary Jimmy Buffett & The Coral Reefer. Complete with beach-type props and costuming\, you will believe this IS the real deal!! The amazing look and vocals of Larry Pearson will have you convinced you have been transported to "Margaritaville"!
X-ALT-DESC;FMTTYPE=text/html:Tickets on sale now for Bluffett &amp\; The Son of a Sailor Band&mdash\;a tribute band dedicated to the legendary Jimmy Buffett &amp\; The Coral Reefer. Complete with beach-type props and costuming\, you will believe this IS the real deal!! The amazing look and vocals of Larry Pearson will have you convinced you have been transported to &quot\;Margaritaville&quot\;!
LOCATION:Montco Cultura Center Theater\, Science Center Building\, 1313 Morris Road\, Blue Bell
UID:e.2183.864594
SEQUENCE:3
DTSTAMP:20260422T170613Z
URL:https://business.tricountyareachamber.com/events/details/bluffett-the-son-of-a-sailor-band-864594
END:VEVENT

END:VCALENDAR
