BEGIN:VCALENDAR
VERSION:2.0
PRODID:-//ChamberMaster//Event Calendar 2.0//EN
METHOD:PUBLISH
X-PUBLISHED-TTL:P3D
REFRESH-INTERVAL:P3D
CALSCALE:GREGORIAN
BEGIN:VEVENT
DTSTART:20180218T190000Z
DTEND:20180218T211500Z
X-MICROSOFT-CDO-ALLDAYEVENT:FALSE
SUMMARY:Boy
DESCRIPTION:An exciting new play by Anna Ziegler about finding love in the midst of confusion about sexual identity. Boy is inspired by a real life 1960s tale of a baby boy that is terribly maimed in an accident. The parents are persuaded by a well-meaning doctor to raise the baby as a daughter. Two decades later the repercussions of that choice continue to unfold. A story of the blinding power of love and the complicated mystery of one's perception of self\, Boy is a moving play that calls into question how we become who we are. "Expect it to be a long while before there's another play more rewarding\, more moving\, and more magical than Boy."   Talkin' Broadway.\n\nAdult $22\, Senior (65+) $19\, Student/Child (5+) $15\n\nRuns approximately 2 hours with one intermission\n\nDirected By Suki\n\nCast:\n\nAdam/Samantha   Jeff Hunsicker\n\nJenny   Carley Martone\n\nTrudy   Andrea Cronin\n\nDoug   Eric Jarrell\n\nWendell   Tom Tansey\n\nContact beth.mcdonnell@steelriver.org for Group Sales and Discounts before you see the show.
X-ALT-DESC;FMTTYPE=text/html:<p style="box-sizing: border-box\; margin: 0px 0px 26px\; padding: 0px\; color: rgb(51\, 51\, 51)\; font-family: Lato\, sans-serif\; font-size: 16px\; background-color: rgb(255\, 255\, 255)\;">An exciting new play by Anna Ziegler about finding love in the midst of confusion about sexual identity. Boy is inspired by a real life 1960s tale of a baby boy that is terribly maimed in an accident. The parents are persuaded by a well-meaning doctor to raise the baby as a daughter. Two decades later the repercussions of that choice continue to unfold. A story of the blinding power of love and the complicated mystery of one&rsquo\;s perception of self\, Boy is a moving play that calls into question how we become who we are. &ldquo\;Expect it to be a long while before there&rsquo\;s another play more rewarding\, more moving\, and more magical than Boy.&rdquo\; &ndash\; Talkin&rsquo\; Broadway.</p>\n\n<p style="box-sizing: border-box\; margin: 0px 0px 26px\; padding: 0px\; color: rgb(51\, 51\, 51)\; font-family: Lato\, sans-serif\; font-size: 16px\; background-color: rgb(255\, 255\, 255)\;">Adult $22\, Senior (65+) $19\, Student/Child (5+) $15</p>\n\n<p style="box-sizing: border-box\; margin: 0px 0px 26px\; padding: 0px\; color: rgb(51\, 51\, 51)\; font-family: Lato\, sans-serif\; font-size: 16px\; background-color: rgb(255\, 255\, 255)\;"><em style="box-sizing: border-box\;">Runs approximately 2 hours with one intermission</em></p>\n\n<p style="box-sizing: border-box\; margin: 0px 0px 26px\; padding: 0px\; color: rgb(51\, 51\, 51)\; font-family: Lato\, sans-serif\; font-size: 16px\; background-color: rgb(255\, 255\, 255)\;"><span style="box-sizing: border-box\; font-weight: 700\;">Directed By Suki</span></p>\n\n<p style="box-sizing: border-box\; margin: 0px 0px 26px\; padding: 0px\; color: rgb(51\, 51\, 51)\; font-family: Lato\, sans-serif\; font-size: 16px\; background-color: rgb(255\, 255\, 255)\;"><span style="box-sizing: border-box\; font-weight: 700\;">Cast:</span></p>\n\n<p style="box-sizing: border-box\; margin: 0px 0px 26px\; padding: 0px\; color: rgb(51\, 51\, 51)\; font-family: Lato\, sans-serif\; font-size: 16px\; background-color: rgb(255\, 255\, 255)\;">Adam/Samantha &ndash\; Jeff Hunsicker<br style="box-sizing: border-box\;" />\nJenny &ndash\; Carley Martone<br style="box-sizing: border-box\;" />\nTrudy &ndash\; Andrea Cronin<br style="box-sizing: border-box\;" />\nDoug &ndash\; Eric Jarrell<br style="box-sizing: border-box\;" />\nWendell &ndash\; Tom Tansey</p>\n\n<p style="box-sizing: border-box\; margin: 0px 0px 26px\; padding: 0px\; color: rgb(51\, 51\, 51)\; font-family: Lato\, sans-serif\; font-size: 16px\; background-color: rgb(255\, 255\, 255)\;"><span style="box-sizing: border-box\; font-weight: 700\;">Contact&nbsp\;<a href="mailto:beth.mcdonnell@steelriver.org" rel="noopener" style="box-sizing: border-box\; background: transparent\; transition: all 0.1s ease-in-out\; color: rgb(36\, 131\, 208)\; text-decoration-line: none\;" target="_blank">beth.mcdonnell@steelriver.org</a>&nbsp\;for Group Sales and Discounts&nbsp\;before you see the show.</span></p>\n
LOCATION:Steel River Playhouse 245 E. High Street Pottstown\, PA 19464
UID:e.2183.849140
SEQUENCE:3
DTSTAMP:20260421T110054Z
URL:https://business.tricountyareachamber.com/events/details/boy-849140
END:VEVENT

END:VCALENDAR
