BEGIN:VCALENDAR
VERSION:2.0
PRODID:-//ChamberMaster//Event Calendar 2.0//EN
METHOD:PUBLISH
X-PUBLISHED-TTL:P3D
REFRESH-INTERVAL:P3D
CALSCALE:GREGORIAN
BEGIN:VEVENT
DTSTART:20210424T120000Z
DTEND:20210424T160000Z
X-MICROSOFT-CDO-ALLDAYEVENT:FALSE
SUMMARY:Boyertown and Pottstown Spring Garden Tour
DESCRIPTION:Join us for a self-guided tour through beautiful gardens in Pottstown and Boyertown.\n\n\n\n\n\n\nAbout this Event\n\n\n\nTour guests are given the opportunity to vote for their favorite garden\, and the garden with the most votes will be recognized at the Home Garden Contest Awards Banquet. Gardens on the tour consist of past winners of the Home Garden Contest.\n\nGarden tour attendees will be notified in advance of two starting points in both Pottstown and Boyertown. On the day of the tour\, attendees will receive garden descriptions and a map for the day. You are free to visit any of the gardens during the four-hour period they are open.\n\nTickets will also be available online for $20 in advance\, $25 day of tour.\n\nSeries ticket (for all 3 tours in 2021) $50\n\nTour and lunch ticket at Gracie's 21st Century Cafe $50 *tips and alcohol not inlcuded\n\n*raindate will be Saturday\, May 1st\n\nTickets can be purchased in person as well at Mosaic's office: 724 N. Adams Street Building a Better Boyertown's office: 3 E. Philadelphia Ave.
X-ALT-DESC;FMTTYPE=text/html:<div class="g-group l-lg-mar-bot-6 l-md-mar-bot-4  " style="margin: 0px 0px 30px\; padding: 0px\; font-size: 0px\; letter-spacing: 0px\; color: rgb(57\, 54\, 79)\; font-family: &quot\;Neue Plak&quot\;\, -apple-system\, BlinkMacSystemFont\, Roboto\, &quot\;Helvetica Neue&quot\;\, Helvetica\, Tahoma\, Arial\, sans-serif\; background-color: rgb(255\, 255\, 255)\;">\n<div class="g-cell g-cell-10-12 g-cell-md-1-1" style="margin: 0px\; padding: 0px 15px\; width: 560px\; box-sizing: border-box\; display: inline-block\; overflow: hidden\; vertical-align: top\; letter-spacing: 0.5px\; font-size: 0.933333rem\; line-height: 1.25rem\;">\n<div class="has-user-generated-content" style="margin: 0px\; padding: 0px\;">\n<div class="text-body-medium" data-automation="listing-event-description" style="margin: 0px\; padding: 0px\; font-size: 0.933333rem\; line-height: 1.25rem\;"><span style="font-weight: 700\; padding-top: 0px\;">Join us for a self-guided tour through beautiful gardens in Pottstown and Boyertown.</span></div>\n</div>\n</div>\n</div>\n\n<div class="g-group l-mar-bot-6 l-sm-mar-bot-4" style="margin: 0px 0px 30px\; padding: 0px\; font-size: 0px\; letter-spacing: 0px\; color: rgb(57\, 54\, 79)\; font-family: &quot\;Neue Plak&quot\;\, -apple-system\, BlinkMacSystemFont\, Roboto\, &quot\;Helvetica Neue&quot\;\, Helvetica\, Tahoma\, Arial\, sans-serif\; background-color: rgb(255\, 255\, 255)\;">\n<div class="structured-content g-cell g-cell-10-12 g-cell-md-1-1" style="margin: 0px\; padding: 0px 15px\; width: 560px\; box-sizing: border-box\; display: inline-block\; overflow: hidden\; vertical-align: top\; letter-spacing: 0.5px\; font-size: 0.933333rem\; line-height: 1.25rem\;">\n<h2 class="text-body-large hide-small" style="margin: 0px -0.25px 0px 0px\; padding: 0px\; font-size: 1.2rem\; line-height: 1.5rem\; letter-spacing: 0.25px\;">About this Event</h2>\n\n<div class="has-user-generated-content" data-automation="about-this-event-sc" style="margin: 0px\; padding: 0px\;">\n<div class="structured-content-rich-text structured-content__module l-align-left l-mar-vert-6 l-sm-mar-vert-4 text-body-medium" style="margin: 30px 0px\; padding: 0px\; font-size: 0.933333rem\; line-height: 1.25rem\; text-rendering: optimizelegibility\;">\n<p style="margin: 0px\; padding: 0px\; color: rgb(111\, 114\, 135)\; font-size: 16px\; line-height: 1.5rem\;">Tour guests are given the opportunity to vote for their favorite garden\, and the garden with the most votes will be recognized at the Home Garden Contest Awards Banquet. Gardens on the tour consist of past winners of the Home Garden Contest.</p>\n\n<p style="margin: 0px\; padding: 10px 0px 0px\; color: rgb(111\, 114\, 135)\; font-size: 16px\; line-height: 1.5rem\;">Garden tour attendees will be notified in advance of two starting points in both Pottstown and Boyertown. On the day of the tour\, attendees will receive garden descriptions and a map for the day. You are free to visit any of the gardens during the four-hour period they are open.</p>\n\n<p style="margin: 0px\; padding: 10px 0px 0px\; color: rgb(111\, 114\, 135)\; font-size: 16px\; line-height: 1.5rem\;">Tickets will also be available online for $20 in advance\, $25 day of tour.</p>\n\n<p style="margin: 0px\; padding: 10px 0px 0px\; color: rgb(111\, 114\, 135)\; font-size: 16px\; line-height: 1.5rem\;">Series ticket (for all 3 tours in 2021) $50</p>\n\n<p style="margin: 0px\; padding: 10px 0px 0px\; color: rgb(111\, 114\, 135)\; font-size: 16px\; line-height: 1.5rem\;">Tour and lunch ticket at Gracie&rsquo\;s 21st Century Cafe $50 *tips and alcohol not inlcuded</p>\n\n<p style="margin: 0px\; padding: 10px 0px 0px\; color: rgb(111\, 114\, 135)\; font-size: 16px\; line-height: 1.5rem\;">*raindate will be Saturday\, May 1st</p>\n\n<p style="margin: 0px\; padding: 10px 0px 0px\; color: rgb(111\, 114\, 135)\; font-size: 16px\; line-height: 1.5rem\;">Tickets can be purchased in person as well at Mosaic&rsquo\;s office: 724 N. Adams Street Building a Better Boyertown&rsquo\;s office: 3 E. Philadelphia Ave.</p>\n</div>\n</div>\n</div>\n</div>\n
LOCATION:724 North Adams Street Pottstown\, PA 19464
UID:e.2183.856527
SEQUENCE:3
DTSTAMP:20260424T074430Z
URL:https://business.tricountyareachamber.com/events/details/boyertown-and-pottstown-spring-garden-tour-856527
END:VEVENT

END:VCALENDAR
