BEGIN:VCALENDAR
VERSION:2.0
PRODID:-//ChamberMaster//Event Calendar 2.0//EN
METHOD:PUBLISH
X-PUBLISHED-TTL:P3D
REFRESH-INTERVAL:P3D
CALSCALE:GREGORIAN
BEGIN:VEVENT
DTSTART:20160120T220000Z
DTEND:20160121T013000Z
X-MICROSOFT-CDO-ALLDAYEVENT:FALSE
SUMMARY:Boyertown Area Progress Dinner
DESCRIPTION:Boyertown Area High School students will showcase a video highlighting the following businesses that have recently opened or made improvements/additions to their property:\n\nDancing Tree Creations Artisans Gallery and Studio\n\nN.E. Fisher\, a Division of McCarthy Engineering Associates\n\nFoundation for Boyertown Education\n\nThe Swamp Door Antiques & Curiosities LLC\n\n\n\nThe James K. Boyer "Quality of Life Award" is also presented to the Colebrookdale Railroad Preservation Trust.\n\n\n\nSponsorships are available.  Contact Kitty at 610.326.2900 or kitty@tricountyareachamber.com.
X-ALT-DESC;FMTTYPE=text/html:<br />\n<span style="font-size:12px\;"><span style="font-family:arial\;">Boyertown<span style="text-align: justify\; line-height: 1.6\;"> Area High School students will showcase a video highlighting the following businesses that have recently opened or made improvements/additions to their property:</span><br />\n<strong><span style="color:black\;">Dancing Tree Creations Artisans Gallery and Studio</span></strong><br />\n<strong><span style="color:black\;">N.E. Fisher\, a Division of McCarthy Engineering Associates</span></strong><br />\n<strong><span style="color:black\;">Foundation for Boyertown Education</span></strong><br />\n<strong><span style="color:black\;">The Swamp Door Antiques &amp\; Curiosities LLC</span></strong><br />\n<br />\n<span style="text-align: justify\; line-height: 1.6\;">The James K. Boyer &quot\;Quality of Life Award&quot\; is also presented to the </span><strong><span style="color:black\;">Colebrookdale Railroad Preservation Trust</span></strong><span style="text-align: justify\; line-height: 1.6\;">.</span></span></span>\n\n<p><br />\n<span style="font-size:12px\;"><span style="font-family:arial\;"><span style="line-height: 1.6\;">Sponsorships are available.&nbsp\; Contact Kitty at 610.326.2900 or </span><a href="mailto:kitty@tricountyareachamber.com" style="font-family: arial\; font-size: 12px\; line-height: 1.6\;">kitty@tricountyareachamber.com</a><span style="line-height: 1.6\;">.</span></span></span></p>\n
LOCATION:La Massaria at Bella Vista Golf Course 2901 Fagleysville Rd. Gilbertsville\, PA 19525
UID:e.2183.845117
SEQUENCE:3
DTSTAMP:20260425T223129Z
URL:https://business.tricountyareachamber.com/events/details/boyertown-area-progress-dinner-01-20-2016-845117
END:VEVENT

END:VCALENDAR
