BEGIN:VCALENDAR
VERSION:2.0
PRODID:-//ChamberMaster//Event Calendar 2.0//EN
METHOD:PUBLISH
X-PUBLISHED-TTL:P3D
REFRESH-INTERVAL:P3D
CALSCALE:GREGORIAN
BEGIN:VEVENT
DTSTART:20180117T220000Z
DTEND:20180118T013000Z
X-MICROSOFT-CDO-ALLDAYEVENT:FALSE
SUMMARY:Boyertown Area Progress Dinner 2018
DESCRIPTION:Video presentation by Boyertown Area High School students to include an update on Building a Better Boyertown's Community Visioning Process and Planning for future direction focused on expanding and improving its wealth of tourism\, dining\, and entertainment assets.\n\n\n\nBoyertown's Vision and Action Plan with focus on Historic Cultural and Heritage Tourism as a key transformational strategy.\n\n \n\nWith the support of a grant from the BB&T Economic Growth Fund\, Building a Better Boyertown has spent the past nine months leading the community through a visioning process.  As a part of that process\, our community determined that the best option for economic growth is a focus on expanding and improving our wealth of tourism\, dining\, and entertainment assets\, and implement a professional tourism marketing strategy to attract visitors to those assets from a well-defined market radius. \n\n \n\nThe visioning process\, which got us talking and thinking about the future of our town in different ways\, proved to be very important. It helped us to focus on the tremendous tourism assets and resources that are already in place\, and determine a path forward to capitalize on them.  In addition\, to ideas for capital projects such as a new Town Center at the railyard and targeted business recruitment\, the planning phase identified tourism marketing a critical component of sustained economic growth in Boyertown.\n\n\n\nBusiness Development Opportunities are available.  Contact Tarra at 610.326.2900 or tarra@tricountyareachamber.com.
X-ALT-DESC;FMTTYPE=text/html:<div><font face="arial"><span style="font-size: 12px\;"><strong>Video presentation</strong> by Boyertown Area High School students to include an update on Building a Better Boyertown&#39\;s Community Visioning Process and Planning for&nbsp\;future direction focused on expanding and improving its wealth of tourism\, dining\, and entertainment assets.</span></font><br />\n<br />\nBoyertown&#39\;s Vision and Action Plan with focus on Historic Cultural and Heritage Tourism as a key transformational strategy.<br />\n&nbsp\;<br />\nWith the support of a grant from the BB&amp\;T Economic Growth Fund\, Building a Better Boyertown has spent the past nine months leading the community through a visioning process.&nbsp\; As a part of that process\, our community determined that the best option for economic growth is a focus on expanding and improving our wealth of tourism\, dining\, and entertainment assets\, and implement a professional tourism marketing strategy to attract visitors to those assets from a well-defined market radius.&nbsp\;<br />\n&nbsp\;<br />\nThe visioning process\, which got us talking and thinking about the future of our town in different ways\, proved to be very important. It helped us to focus on the tremendous tourism assets and resources that are already in place\, and determine a path forward to capitalize on them.&nbsp\; In addition\, to ideas for capital projects such as a new Town Center at the railyard and targeted business recruitment\, the planning phase identified tourism marketing a critical component of sustained economic growth in Boyertown.<br />\n<br />\n<span style="font-size: 12px\;"><span style="font-family: arial\;"><span style="line-height: 1.6\;">Business Development Opportunities are available.&nbsp\; Contact Tarra at 610.326.2900 or <a href="mailto:tarra@tricountyareachamber.com">tarra</a></span><a href="mailto:tarra@tricountyareachamber.com">@tricountyareachamber.com</a><span style="line-height: 1.6\;">.</span></span></span></div>\n
LOCATION:La Massaria at Bella Vista Golf Course 2901 Fagleysville Rd. Gilbertsville\, PA 19525
UID:e.2183.848865
SEQUENCE:3
DTSTAMP:20260421T110153Z
URL:https://business.tricountyareachamber.com/events/details/boyertown-area-progress-dinner-2018-848865
END:VEVENT

END:VCALENDAR
