BEGIN:VCALENDAR
VERSION:2.0
PRODID:-//ChamberMaster//Event Calendar 2.0//EN
METHOD:PUBLISH
X-PUBLISHED-TTL:P3D
REFRESH-INTERVAL:P3D
CALSCALE:GREGORIAN
BEGIN:VEVENT
DTSTART:20250327T210000Z
DTEND:20250328T003000Z
X-MICROSOFT-CDO-ALLDAYEVENT:FALSE
SUMMARY:Boyertown Area Progress Dinner 2025
DESCRIPTION:Boyertown Area Progress Dinner\nThursday\, March 27\, 2025\n\n5 PM - 8:30 PM\n\nLa Massaria at Bella Vista\n\n\n\nWhy Attend:  Join the TriCounty Area Chamber for dinner to celebrate the Boyertown Area. \n\n\n\nTCACC will be presenting the James K. Boyer Quality of Life Award to Preston's Pantry for their involvement  and service to the community.\n\n\n\nDinner registration includes cocktail hour with cash bar\, dinner\, and the presentation of the Boyertown Area High School Telecommunications Students' video production. This year's video production will include companies that are new to serve the community and have made renovations and improvements to their buildings to beautify the area:\n\n\n	Carmelo's Pizza\n	Community Health & Dental Care\n	Lehigh Valley Health Network\n	The Peppermint Stick Candy Store & Parlor\n\nWe will also have the Boyertown Area High School's Flute Choir performing during dinner. Come out to enjoy a fun night with your colleagues and to support your neighboring businesses.\n\n________________________________________________________________________\n\n\n\nEvent Exposure & Marketing Opportunities  are available that offer complimentary tickets. Click here to see what best suits your business.\n\nCall Alice at 610-326-2900 for more information on these business exposure opportunities.
X-ALT-DESC;FMTTYPE=text/html:<div>\n<div><span style="font-family: arial\; font-size: 18px\;"><b>Boyertown Area Progress Dinner</b></span></div>\n<span style="font-size: 16px\;"><span style="font-family: arial\;"><strong>Thursday\, March 27\, 2025</strong><br />\n<strong>5 PM - 8:30 PM</strong><br />\n<b>La Massaria at Bella Vista</b></span></span><br />\n<br />\n<span style="font-size: 16px\;"><span style="font-family: arial\;">Why Attend:&nbsp\;&nbsp\;</span></span><strong><span style="font-size: 18px\;"><span style="font-family: arial\;">Join the TriCounty Area Chamber for dinner to celebrate the Boyertown Area.&nbsp\;</span></span></strong><br />\n<br />\n<span style="font-size: 18px\;"><span style="font-family: arial\;">TCACC will be presenting the James K. Boyer Quality of Life Award to</span></span><span style="font-family: arial\; font-size: 18px\;">&nbsp\;<strong>Preston&#39\;s Pantry&nbsp\;</strong>for their involvement&nbsp\; and service to the community.</span><br />\n<br />\n<span style="font-size: 18px\;"><span style="font-family: arial\;">Dinner registration includes cocktail hour with cash bar\, dinner\, and the presentation of the&nbsp\;</span></span><span style="font-family: arial\; font-size: 18px\;">Boyertown Area High School Telecommunications Students&#39\;&nbsp\;</span><span style="font-size: 18px\;"><span style="font-family: arial\;">video production. This year&#39\;s video production will include companies that are new to serve the community and have made renovations and improvements to their buildings to beautify the area:</span></span>\n\n<ul>\n	<li><font face="arial"><span style="font-size: 18px\;"><b>Carmelo&#39\;s Pizza</b></span></font></li>\n	<li><font face="arial"><span style="font-size: 18px\;"><b>Community Health &amp\; Dental Care</b></span></font></li>\n	<li><font face="arial"><span style="font-size: 18px\;"><b>Lehigh Valley Health Network</b></span></font></li>\n	<li><font face="arial"><span style="font-size: 18px\;"><b>The Peppermint Stick Candy Store &amp\; Parlor</b></span></font></li>\n</ul>\n<span style="font-family:comic sans ms\;"><span style="font-family:arial\;"><span style="font-size:18px\;">We will also have the Boyertown Area High School&#39\;s Flute Choir performing during dinner. Come out to enjoy a fun night with your colleagues and to support your neighboring businesses.</span></span></span><br />\n________________________________________________________________________<br />\n<br />\n<span style="font-family: arial\; font-size: 14px\; background-image: initial\; background-position: initial\; background-size: initial\; background-repeat: initial\; background-attachment: initial\; background-origin: initial\; background-clip: initial\;"><a href="https://chambermaster.blob.core.windows.net/userfiles/UserFiles/chambers/2183/File/SponsorshipOpportunities-BoyertownDinner2025.pdf">Event Exposure &amp\; Marketing Opportunities</a>&nbsp\;&nbsp\;are available that offer complimentary tickets.<a href="https://chambermaster.blob.core.windows.net/userfiles/UserFiles/chambers/2183/File/SponsorshipOpportunities-BoyertownDinner2025.pdf">&nbsp\;Click here to see what best suits your business.</a><br />\nCall Alice at 610-326-2900 for more information on these business exposure opportunities.</span></div>\n
LOCATION:La Massaria at Bella Vista Golf Course
UID:e.2183.860511
SEQUENCE:3
DTSTAMP:20260421T130740Z
URL:https://business.tricountyareachamber.com/events/details/boyertown-area-progress-dinner-2025-860511
END:VEVENT

END:VCALENDAR
