BEGIN:VCALENDAR
VERSION:2.0
PRODID:-//ChamberMaster//Event Calendar 2.0//EN
METHOD:PUBLISH
X-PUBLISHED-TTL:P3D
REFRESH-INTERVAL:P3D
CALSCALE:GREGORIAN
BEGIN:VEVENT
DTSTART:20171021T230000Z
DTEND:20171022T020000Z
X-MICROSOFT-CDO-ALLDAYEVENT:FALSE
SUMMARY:Boyertown Halloween Parade
DESCRIPTION:Parade Route: North on Madison Street\, West on Philadelphia Ave (Rt 73)\, South on Reading Avenue\, West on Third Street\, & South on Monroe Street.\n\n(Rain Date: Sunday\, 10/22 at 2:00 pm)
X-ALT-DESC;FMTTYPE=text/html:<span style="color: rgb(75\, 79\, 86)\; font-family: Helvetica\, Arial\, sans-serif\; font-size: 14px\; background-color: rgb(255\, 255\, 255)\;">Parade Route: North on Madison Street\, West on Philadelphia Ave (Rt 73)\, South on Reading Avenue\, West on Third Street\, &amp\; South on Monroe Street.</span><br style="color: rgb(75\, 79\, 86)\; font-family: Helvetica\, Arial\, sans-serif\; font-size: 14px\; background-color: rgb(255\, 255\, 255)\;" />\n<span style="color: rgb(75\, 79\, 86)\; font-family: Helvetica\, Arial\, sans-serif\; font-size: 14px\; background-color: rgb(255\, 255\, 255)\;">(Rain Date: Sunday\, 10/22 at 2:00 pm)</span>
LOCATION:Boyertown\, PA
UID:e.2183.848822
SEQUENCE:3
DTSTAMP:20260421T043250Z
URL:https://business.tricountyareachamber.com/events/details/boyertown-halloween-parade-848822
END:VEVENT

END:VCALENDAR
