BEGIN:VCALENDAR
VERSION:2.0
PRODID:-//ChamberMaster//Event Calendar 2.0//EN
METHOD:PUBLISH
X-PUBLISHED-TTL:P3D
REFRESH-INTERVAL:P3D
CALSCALE:GREGORIAN
BEGIN:VEVENT
DTSTART:20170915T210000Z
DTEND:20170916T010000Z
X-MICROSOFT-CDO-ALLDAYEVENT:FALSE
SUMMARY:Boyertown Oktoberfest
DESCRIPTION:The 10th Annual Oktoberfest is a fundraising event for Building a Better Boyertown. Oktoberfest includes local food vendors\, a beer garden\, live music\, raffle\, craft vendors\, local businesses and organizations\, and a lot of fun!\n\n\n\nWhy is Oktoberfest in September? The German Oktoberfest in Munich\, Germany starts on the same weekend. \n\n\n\nRain date 09/17/17
X-ALT-DESC;FMTTYPE=text/html:The 10th Annual Oktoberfest is a fundraising event for Building a Better Boyertown. Oktoberfest includes local food vendors\, a beer garden\, live music\, raffle\, craft vendors\, local businesses and organizations\, and a lot of fun!<br />\n<br />\nWhy is Oktoberfest in September? The German Oktoberfest in Munich\, Germany starts on the same weekend.&nbsp\;<br />\n<br />\nRain date 09/17/17<br />\n&nbsp\;
LOCATION:Town Center Parking Lot Boyertown\, PA 19512
UID:e.2183.847557
SEQUENCE:3
DTSTAMP:20260421T025730Z
URL:https://business.tricountyareachamber.com/events/details/boyertown-oktoberfest-847557
END:VEVENT

END:VCALENDAR
