BEGIN:VCALENDAR
VERSION:2.0
PRODID:-//ChamberMaster//Event Calendar 2.0//EN
METHOD:PUBLISH
X-PUBLISHED-TTL:P3D
REFRESH-INTERVAL:P3D
CALSCALE:GREGORIAN
BEGIN:VEVENT
DTSTART:20220416T140000Z
DTEND:20220416T180000Z
X-MICROSOFT-CDO-ALLDAYEVENT:FALSE
SUMMARY:Building a Better Boyertown Presents Coming Out of Hibernation
DESCRIPTION:Building a Better Boyertown (BaBB) is excited to announce its annual Coming Out of Hibernation event\, which will take place in downtown Boyertown the third Saturday in April. Celebrate the arrival of spring and the end of hibernation with this fun-filled event for the entire family! Featuring unique gift and specialty food vendors\, delicious food\, and fun activities and games\, this event is sure to entertain everyone in your family.  \n\n \n\nVisitors of all ages can enjoy a stroll down Philadelphia Avenue which will be lined with craft and specialty food vendors including honey\, mead\, flowers\, hot sauce\, sweet treats\, soap\, candles\, and much more. A variety of food vendors will also be joining us\, so bring your appetite for brunch or lunch! Local businesses and nonprofits will be offering a variety of games\, crafts\, and activities. Children can visit a kite making station where they will decorate and assemble their very own kite to take home. Families are sure to enjoy visiting the baby farm animal petting zoo and learning about the importance of springtime on the farm.  \n\n \n\nFor some extra grown-up fun\, guests 21 and older can head over to the rail yard and visit the pop-up Bears & Bees Bar\, featuring tasty spring cocktails and mead. Mead is an alcoholic beverage made from fermented honey. Often ingredients like fruits or spices are added. We are excited to feature Rebel Hive Meadery and Stonekeep Meadery at this year's event. \n\n \n\nComing Out of Hibernation is free to attend. Some activities including the Bears and Bees Bar and kite making may incur a fee. For more information\, including a list of participating vendors\, please visit www.boyertownpa.og. We would like to thank this year's presenting sponsor\, Fred Beans Ford/Collision CARSTAR\, for their support of Hibernation. \n\n \n\nBuilding a Better Boyertown is a non-profit organization that seeks to preserve Boyertown's artistic\, historical\, and agricultural heritage by providing the Boyertown Community with physical improvements\, unique opportunities\, and social interactions for businesses\, residents\, and visitors alike. Boyertown is a welcoming\, vibrant\, and engaging community for people from all walks of life. BaBB cherishes and supports its history\, arts\, businesses\, retail\, agriculture and offers an unparalleled tourist experience. If you are interested in donating to BaBB or becoming a member please call 610-369-3054 or visit www.boyertownpa.org.
X-ALT-DESC;FMTTYPE=text/html:<span style="font-family:times new roman\,serif\;"><span style="font-size:12.0pt\;">Building a Better Boyertown (BaBB) is excited to announce its annual Coming Out of Hibernation event\, which will take place in downtown Boyertown the third Saturday in April. </span></span><span style="font-family:times new roman\,serif\;"><span style="font-size:12.0pt\;">Celebrate the arrival of spring and the end of hibernation with this fun-filled event for the entire family! Featuring unique gift and specialty food vendors\, delicious food\, and fun activities and games\, this event is sure to entertain everyone in your family. &nbsp\;</span></span><br />\n&nbsp\;<br />\n<span style="font-family:times new roman\,serif\;"><span style="font-size:12.0pt\;">Visitors of all ages can enjoy a stroll down Philadelphia Avenue which will be lined with craft and specialty food vendors including honey\, mead\, flowers\, hot sauce\, sweet treats\, soap\, candles\, and much more. A variety of food vendors will also be joining us\, so bring your appetite for brunch or lunch! Local businesses and nonprofits will be offering a variety of games\, crafts\, and activities. Children can visit a kite making station where they will decorate and assemble their very own kite to take home. Families are sure to enjoy visiting the baby farm animal petting zoo and learning about the importance of springtime on the farm. &nbsp\;</span></span><br />\n&nbsp\;<br />\n<span style="border:none windowtext 1.0pt\;padding:0in\;"><span style="font-family:times new roman\,serif\;"><span style="font-size:12.0pt\;">For some extra grown-up fun\, guests 21 and older can head over to the rail yard and visit the pop-up Bears &amp\; Bees Bar\, featuring tasty spring cocktails and mead. Mead is an alcoholic beverage made from fermented honey. Often ingredients like fruits or spices are added. We are excited to feature Rebel Hive Meadery and Stonekeep Meadery at this year&rsquo\;s event. </span></span></span><br />\n&nbsp\;<br />\n<span style="font-family:times new roman\,serif\;"><span style="font-size:12.0pt\;">Coming Out of Hibernation is free to attend. Some activities including the Bears and Bees Bar and kite making may incur a fee. For more information\, including a list of participating vendors\, please visit </span></span><a href="http://www.boyertownpa.og/"><span style="font-family:times new roman\,serif\;"><span style="font-size:12.0pt\;">www.boyertownpa.og</span></span></a><span style="font-family:times new roman\,serif\;"><span style="font-size:12.0pt\;">. We would like to thank this year&rsquo\;s presenting sponsor\, Fred Beans Ford/Collision CARSTAR\, for their support of Hibernation. </span></span><br />\n&nbsp\;<br />\n<span style="font-family:times new roman\,serif\;"><span style="font-size:12.0pt\;">Building a Better Boyertown is a non-profit organization that</span></span><span style="font-family:times new roman\,serif\;"><span style="font-size:12.0pt\;"> seeks to preserve Boyertown&rsquo\;s artistic\, historical\, and agricultural heritage by providing the Boyertown Community with physical improvements\, unique opportunities\, and social interactions for businesses\, residents\, and visitors alike. </span></span><span style="font-family:times new roman\,serif\;"><span style="font-size:12.0pt\;">Boyertown is a welcoming\, vibrant\, and engaging community for people from all walks of life. BaBB cherishes and supports its history\, arts\, businesses\, retail\, agriculture and offers an unparalleled tourist experience. </span></span><span style="font-family:times new roman\,serif\;"><span style="font-size:12.0pt\;">If you are interested in donating to BaBB or becoming a member please call 610-369-3054 or visit </span></span><a href="http://www.boyertownpa.org/"><span style="font-family:times new roman\,serif\;"><span style="font-size:12.0pt\;">www.boyertownpa.org</span></span></a><span style="font-family:times new roman\,serif\;"><span style="font-size:12.0pt\;">. &nbsp\;&nbsp\;&nbsp\;&nbsp\;</span></span>
LOCATION:
UID:e.2183.857626
SEQUENCE:3
DTSTAMP:20260424T185532Z
URL:https://business.tricountyareachamber.com/events/details/building-a-better-boyertown-presents-coming-out-of-hibernation-857626
END:VEVENT

END:VCALENDAR
