BEGIN:VCALENDAR
VERSION:2.0
PRODID:-//ChamberMaster//Event Calendar 2.0//EN
METHOD:PUBLISH
X-PUBLISHED-TTL:P3D
REFRESH-INTERVAL:P3D
CALSCALE:GREGORIAN
BEGIN:VEVENT
DTSTART:20241022T203000Z
DTEND:20241022T223000Z
X-MICROSOFT-CDO-ALLDAYEVENT:FALSE
SUMMARY:Business After Hours Event: October
DESCRIPTION:What: TCACC's networking event\n\nWhen: Tuesday\, October 22\, 2024\n\nWhere: Community Health & Dental Care\n\nTime: 4:30 PM - 6:30 PM\n\nHost: CHDC\n\nWhy Attend:  The best way to meet other Chamber Members is to attend a Chamber Business After Hours event.  Join us for this monthly mixer\, hosted by Community Health & Dental Care\, to connect\, share and meet your fellow Members. Wear your favorite jersey from any sport and be entered to win the door prize (gift basket). Join CHDC for some tailgate fun and network with your fellow Chamber Members.\n\n\n\n\n\nBECOME A HOST:  Ask Alice about hosting a Business After Hours event to invite all Chamber Members to visit your location.  These opportunities include showcasing your organization and bringing members to meet you.  Click for more details.
X-ALT-DESC;FMTTYPE=text/html:<span style="font-size:18px\;"><span style="font-family:arial\;">What: <strong>TCACC&#39\;s networking event</strong><br />\nWhen: <strong>Tuesday\, October 22\, 2024</strong><br />\nWhere: <strong>Community Health &amp\; Dental Care</strong><br />\nTime: <strong>4:30 PM - 6:30 PM</strong><br />\nHost: CHDC<br />\n<strong>Why Attend:&nbsp\;</strong> The best way to meet other Chamber Members is to attend a Chamber Business After Hours event.&nbsp\;&nbsp\;</span></span><span style="font-family: arial\; font-size: 18px\;">Join us for this monthly mixer\, hosted by <a href="http://www.ch-dc.org">Community Health &amp\; Dental Care</a>\, to connect\, share and meet your fellow Members.&nbsp\;</span><span style="font-size:18px\;"><span style="font-family:arial\;">Wear your favorite jersey from any sport and be entered to win the door prize (gift basket). Join CHDC for some <strong>tailgate fun</strong> and network with your fellow Chamber Members.</span></span><br />\n<br style="font-family: arial\; font-size: 18px\;" />\n<br style="font-family: arial\; font-size: 18px\;" />\n<strong style="font-family: arial\; font-size: 18px\;">BECOME A HOST:</strong><span style="font-family: arial\; font-size: 18px\;">&nbsp\; Ask Alice about hosting a Business After Hours event to invite all Chamber Members to visit your location.&nbsp\; These opportunities include showcasing your organization and bringing members to meet you.&nbsp\;&nbsp\;</span><a href="https://chambermaster.blob.core.windows.net/userfiles/UserFiles/chambers/2183/File/BusinessAfterHoursHostAgreement.pdf" style="font-family: arial\; font-size: 18px\;">Click for more details.</a>
LOCATION:Community Health & Dental Care 351 W. Schuylkill Road Suite G-15A Pottstown\, PA
UID:e.2183.860521
SEQUENCE:3
DTSTAMP:20260421T125940Z
URL:https://business.tricountyareachamber.com/events/details/business-after-hours-event-october-860521
END:VEVENT

END:VCALENDAR
