BEGIN:VCALENDAR
VERSION:2.0
PRODID:-//ChamberMaster//Event Calendar 2.0//EN
METHOD:PUBLISH
X-PUBLISHED-TTL:P3D
REFRESH-INTERVAL:P3D
CALSCALE:GREGORIAN
BEGIN:VEVENT
DTSTART:20251204T220000Z
DTEND:20251204T233000Z
X-MICROSOFT-CDO-ALLDAYEVENT:FALSE
SUMMARY:Business After Hours: Pottstown Cluster of Religious Communities
DESCRIPTION:TCACC's Networking Event\n\nThursday\, December 4th\, 2025\n\n5 - 6:30PM\n\nHost: Pottstown Cluster of Religious Communities\nWhy Attend: Join us for an open house at the Pottstown Cluster of Religious Communities offices and food pantry.  Light refreshments will be provided. Come out an take a tour of their amazing facilities and learn more about their mission and process for serving the local community. \n\n\n\nPlus the winner of the wreath contest will be announced!\n\n\nThis will be a great night to meet and connect with other Members of your Chamber!
X-ALT-DESC;FMTTYPE=text/html:<span style="font-size: 18px\;"><strong>TCACC&#39\;s Networking Event</strong><br />\n<strong>Thursday\, December 4th\, 2025</strong></span><br />\n<strong style="font-size: 18px\;">5 - 6:30PM</strong><br />\n<span style="font-size: 18px\;">Host: <b>Pottstown Cluster of Religious Communities</b></span>\n<p><span style="font-size:18px\;"><strong>Why Attend:&nbsp\;</strong></span><span style="color: black\; font-size: 18px\;">Join us for an open house at the Pottstown Cluster of Religious Communities&nbsp\;offices and food pantry.&nbsp\; Light refreshments will be provided. Come out an take a tour of their amazing facilities and learn more about their mission and process for serving the local community.&nbsp\;<br />\n<br />\nPlus the winner of the wreath contest will be announced!</span></p>\n<br />\n<span style="font-size:18px\;"><span style="color:black\;"><strong>This will be a great night to meet and connect with other Members of your Chamber!</strong></span></span>
LOCATION:Pottstown Cluster of Religious Communities 57 N Franklin Pottstown PA 19464
UID:e.2183.862961
SEQUENCE:3
DTSTAMP:20260421T185928Z
URL:https://business.tricountyareachamber.com/events/details/business-after-hours-pottstown-cluster-of-religious-communities-862961
END:VEVENT

END:VCALENDAR
