BEGIN:VCALENDAR
VERSION:2.0
PRODID:-//ChamberMaster//Event Calendar 2.0//EN
METHOD:PUBLISH
X-PUBLISHED-TTL:P3D
REFRESH-INTERVAL:P3D
CALSCALE:GREGORIAN
BEGIN:VEVENT
DTSTART:20170124T210000Z
DTEND:20170124T230000Z
X-MICROSOFT-CDO-ALLDAYEVENT:FALSE
SUMMARY:Business Card Exchange
DESCRIPTION:While enjoying networking and refreshments with fellow Chamber members\, you will be able to view a variety of innovative marketing solutions to help promote your business. Enter for a chance to win a briefcase tabletop display or carry bag. Attendees will also receive a coupon for 10% off a single purchase. \n\n\n\nMembers only!\n\n\n\nReservations appreciated.
X-ALT-DESC;FMTTYPE=text/html:<title></title>\n<p><span style="font-family:times new roman\,serif\;"><span style="font-size:12.0pt\;">While enjoying networking and refreshments with fellow Chamber members\, you will be able to view a variety of innovative marketing solutions to help promote your business.&nbsp\;Enter for a chance to win a briefcase tabletop display or carry bag.&nbsp\;Attendees will also receive a coupon for 10% off a single purchase.&nbsp\;</span></span><br />\n<br />\n<span style="font-size:12px\;"><span style="font-family:arial\;"><span style="color:#FF0000\;"><strong>Members only!</strong></span><br />\n<br />\nReservations appreciated.</span></span></p>\n\n<p style="text-align: justify\;"><br />\n<br />\n&nbsp\;</p>\n\n<p style="text-align: justify\;">&nbsp\;</p>\n
LOCATION:Pearl Exhibit Group 265 W. High St. Pottstown\, PA 19464
UID:e.2183.846082
SEQUENCE:3
DTSTAMP:20260420T132359Z
URL:https://business.tricountyareachamber.com/events/details/business-card-exchange-01-24-2017-846082
END:VEVENT

END:VCALENDAR
