BEGIN:VCALENDAR
VERSION:2.0
PRODID:-//ChamberMaster//Event Calendar 2.0//EN
METHOD:PUBLISH
X-PUBLISHED-TTL:P3D
REFRESH-INTERVAL:P3D
CALSCALE:GREGORIAN
BEGIN:VEVENT
DTSTART:20160202T210000Z
DTEND:20160202T230000Z
X-MICROSOFT-CDO-ALLDAYEVENT:FALSE
SUMMARY:Business Card Exchange
DESCRIPTION:This event was rescheduled from January 26 due to the impact of the winter storm.\n\n\n\n\nJoin fellow Chamber members for networking and refreshments at this newly opened and redecorated venue site.\n\n\n\nMembers only!\n\n\n\nReservations appreciated.
X-ALT-DESC;FMTTYPE=text/html:<br />\n<strong><span style="color:#FF0000\;"><span style="font-size:14px\;">This event was rescheduled from January 26 due to the impact of the winter storm.</span></span></strong><br />\n<br />\n<title></title>\n<p><span style="font-size:12px\;"><span style="font-family:arial\;">Join fellow Chamber members for networking and refreshments at this newly opened and redecorated venue site.</span></span><br />\n<br />\n<span style="font-size:12px\;"><span style="font-family:arial\;"><span style="color:#FF0000\;"><strong>Members only!</strong></span><br />\n<br />\nReservations appreciated.</span></span></p>\n\n<p style="text-align: justify\;"><br />\n<br />\n&nbsp\;</p>\n\n<p style="text-align: justify\;">&nbsp\;</p>\n
LOCATION:Gianni's Catering & Event Venue 1445 E. Schuylkill Rd. Pottstown\, PA 19465
UID:e.2183.845101
SEQUENCE:3
DTSTAMP:20260425T191442Z
URL:https://business.tricountyareachamber.com/events/details/business-card-exchange-02-02-2016-845101
END:VEVENT

END:VCALENDAR
