BEGIN:VCALENDAR
VERSION:2.0
PRODID:-//ChamberMaster//Event Calendar 2.0//EN
METHOD:PUBLISH
X-PUBLISHED-TTL:P3D
REFRESH-INTERVAL:P3D
CALSCALE:GREGORIAN
BEGIN:VEVENT
DTSTART:20160322T200000Z
DTEND:20160322T220000Z
X-MICROSOFT-CDO-ALLDAYEVENT:FALSE
SUMMARY:Business Card Exchange
DESCRIPTION:Enjoy refreshments and networking with fellow Chamber members. There will be several giveaways during the evening as SCORE celebrates their 25th anniversary!\n\n\n\nMembers only!\n\n\n\nReservations appreciated.
X-ALT-DESC;FMTTYPE=text/html:<title></title>\n<p><span style="font-size:12px\;"><span style="font-family:arial\;">Enjoy refreshments and networking with&nbsp\;fellow Chamber members. There will be several giveaways during the evening as SCORE celebrates their 25th anniversary!</span></span><br />\n<br />\n<span style="font-size:12px\;"><span style="font-family:arial\;"><span style="color:#FF0000\;"><strong>Members only!</strong></span><br />\n<br />\nReservations appreciated.</span></span></p>\n\n<p style="text-align: justify\;"><br />\n<br />\n&nbsp\;</p>\n\n<p style="text-align: justify\;">&nbsp\;</p>\n
LOCATION:Connections on High 238 E. High St. (New York Plaza building) Pottstown\, PA 19464
UID:e.2183.845292
SEQUENCE:3
DTSTAMP:20260425T175729Z
URL:https://business.tricountyareachamber.com/events/details/business-card-exchange-03-22-2016-845292
END:VEVENT

END:VCALENDAR
