BEGIN:VCALENDAR
VERSION:2.0
PRODID:-//ChamberMaster//Event Calendar 2.0//EN
METHOD:PUBLISH
X-PUBLISHED-TTL:P3D
REFRESH-INTERVAL:P3D
CALSCALE:GREGORIAN
BEGIN:VEVENT
DTSTART:20160517T200000Z
DTEND:20160517T220000Z
X-MICROSOFT-CDO-ALLDAYEVENT:FALSE
SUMMARY:Business Card Exchange
DESCRIPTION:Network with fellow Chamber members while enjoying refreshments and beverages in an outdoor setting on the new patio overlooking Landis Creek's Golf Course.\n\n\n\nMembers only!\n\n\n\nReservations appreciated.
X-ALT-DESC;FMTTYPE=text/html:<title></title>\n<p><font face="arial"><span style="font-size: 12px\; line-height: 12.8px\;">Network with fellow Chamber members while enjoying refreshments and beverages in an outdoor setting on the new patio overlooking Landis Creek&#39\;s Golf Course.</span></font><br />\n<br />\n<span style="font-size:12px\;"><span style="font-family:arial\;"><span style="color:#FF0000\;"><strong>Members only!</strong></span><br />\n<br />\nReservations appreciated.</span></span></p>\n\n<p style="text-align: justify\;"><br />\n<br />\n&nbsp\;</p>\n\n<p style="text-align: justify\;">&nbsp\;</p>\n
LOCATION:Landis Creek Golf Club 765 N. Lewis Road Limerick\, PA 19468
UID:e.2183.845608
SEQUENCE:3
DTSTAMP:20260425T143016Z
URL:https://business.tricountyareachamber.com/events/details/business-card-exchange-05-17-2016-845608
END:VEVENT

END:VCALENDAR
