BEGIN:VCALENDAR
VERSION:2.0
PRODID:-//ChamberMaster//Event Calendar 2.0//EN
METHOD:PUBLISH
X-PUBLISHED-TTL:P3D
REFRESH-INTERVAL:P3D
CALSCALE:GREGORIAN
BEGIN:VEVENT
DTSTART:20160628T200000Z
DTEND:20160628T220000Z
X-MICROSOFT-CDO-ALLDAYEVENT:FALSE
SUMMARY:Business Card Exchange
DESCRIPTION:Enjoy refreshments at the newly renovated SunnyBrook Restaurant and Ballroom. Network with local business professionals in the Wedding Garden and Ballroom at SunnyBrook and sample their latest food creations.\n\n\n\nPlease recognize the fact that our sponsors are incurring an expense to host this event. Please be mindful of this when you register and your ability to fulfill your reservation.\n\n\n\nMembers only!\n\n\n\nReservations appreciated.
X-ALT-DESC;FMTTYPE=text/html:<title></title>\n<p><font face="arial"><span style="font-size: 12px\; line-height: 12.8px\;">Enjoy refreshments&nbsp\;at the newly renovated SunnyBrook&nbsp\;Restaurant and Ballroom. Network with local business professionals in the Wedding Garden and Ballroom at SunnyBrook and sample their latest food creations.</span></font><br />\n<br />\n<span style="font-size:12px\;"><span style="font-family:arial\;"><span style="color:#FF0000\;"><strong>Please recognize the fact that our sponsors are incurring an expense to host&nbsp\;this event. Please be mindful of this when you register and your ability to fulfill your reservation.<br />\n<br />\nMembers only!</strong></span><br />\n<br />\nReservations appreciated.</span></span></p>\n\n<p style="text-align: justify\;"><br />\n<br />\n&nbsp\;</p>\n\n<p style="text-align: justify\;">&nbsp\;</p>\n
LOCATION:SunnyBrook Ballroom 50 Sunnybrook Road Pottstown\, PA 19464
UID:e.2183.845806
SEQUENCE:3
DTSTAMP:20260425T125108Z
URL:https://business.tricountyareachamber.com/events/details/business-card-exchange-06-28-2016-845806
END:VEVENT

END:VCALENDAR
