BEGIN:VCALENDAR
VERSION:2.0
PRODID:-//ChamberMaster//Event Calendar 2.0//EN
METHOD:PUBLISH
X-PUBLISHED-TTL:P3D
REFRESH-INTERVAL:P3D
CALSCALE:GREGORIAN
BEGIN:VEVENT
DTSTART:20150818T200000Z
DTEND:20150818T220000Z
X-MICROSOFT-CDO-ALLDAYEVENT:FALSE
SUMMARY:Business Card Exchange
DESCRIPTION:"Tailgate Tuesday"   Celebrate the start of pre-season football.  Join fellow members for tailgating (networking\, eating\, drinking)\, take part in some preseason drills\, and celebrate with a preseason raffle. Feel free to wear your favorite football jersey. Join us for this grassroots opportunity to have one last summer celebration!\n\n\n\nMembers only!\n\n\n\nReservations appreciated.
X-ALT-DESC;FMTTYPE=text/html:<title></title>\n<p><span style="font-size:12px\;"><span style="font-family:arial\;"><strong>&ldquo\;Tailgate Tuesday&rdquo\;</strong> &ndash\; Celebrate the start of pre-season football.&nbsp\; Join fellow members for tailgating (networking\, eating\, drinking)\, take part in some preseason drills\, and celebrate with a preseason raffle. Feel free to wear your favorite football jersey.&nbsp\;Join us for this g<em>rassroots</em> opportunity to have one last summer celebration!</span></span><br />\n<br />\n<span style="font-size:12px\;"><span style="font-family:arial\;"><span style="color:#FF0000\;"><strong>Members only!</strong></span><br />\n<br />\nReservations appreciated.</span></span></p>\n\n<p style="text-align: justify\;"><br />\n<br />\n&nbsp\;</p>\n\n<p style="text-align: justify\;">&nbsp\;</p>\n
LOCATION:Keystone Villa at Douglassville 1180 Ben Franklin Hwy. East Douglassville\, PA 19518
UID:e.2183.845006
SEQUENCE:3
DTSTAMP:20260426T042106Z
URL:https://business.tricountyareachamber.com/events/details/business-card-exchange-08-18-2015-845006
END:VEVENT

END:VCALENDAR
