BEGIN:VCALENDAR
VERSION:2.0
PRODID:-//ChamberMaster//Event Calendar 2.0//EN
METHOD:PUBLISH
X-PUBLISHED-TTL:P3D
REFRESH-INTERVAL:P3D
CALSCALE:GREGORIAN
BEGIN:VEVENT
DTSTART:20150922T200000Z
DTEND:20150922T220000Z
X-MICROSOFT-CDO-ALLDAYEVENT:FALSE
SUMMARY:Business Card Exchange
DESCRIPTION:Join fellow Chamber Members for refreshments provided by Baird's Catering\, networking and a tour of KenCrest's facility as we celebrate KenCrest's 110th year of supporting individuals with disabilities. Thank you to KenCrest for creating an environment of inclusion.\n\n\n\nMembers only!\n\n\n\nReservations appreciated.
X-ALT-DESC;FMTTYPE=text/html:<title></title>\n<p><span style="font-size:12px\;"><span style="font-family:arial\;">Join fellow Chamber Members for&nbsp\;refreshments provided by Baird&#39\;s Catering\, networking and a tour of KenCrest&#39\;s&nbsp\;facility as we&nbsp\;celebrate KenCrest&#39\;s 110th year of supporting individuals with disabilities.&nbsp\;Thank you to KenCrest for creating an <em>environment</em> of inclusion.</span></span><br />\n<br />\n<span style="font-size:12px\;"><span style="font-family:arial\;"><span style="color:#FF0000\;"><strong>Members only!</strong></span><br />\n<br />\nReservations appreciated.</span></span></p>\n\n<p style="text-align: justify\;"><br />\n<br />\n&nbsp\;</p>\n\n<p style="text-align: justify\;">&nbsp\;</p>\n
LOCATION:KenCrest EmployNet 21 Robinson St. Pottstown\, PA 19464
UID:e.2183.844857
SEQUENCE:3
DTSTAMP:20260426T042209Z
URL:https://business.tricountyareachamber.com/events/details/business-card-exchange-09-22-2015-844857
END:VEVENT

END:VCALENDAR
