BEGIN:VCALENDAR
VERSION:2.0
PRODID:-//ChamberMaster//Event Calendar 2.0//EN
METHOD:PUBLISH
X-PUBLISHED-TTL:P3D
REFRESH-INTERVAL:P3D
CALSCALE:GREGORIAN
BEGIN:VEVENT
DTSTART:20151027T200000Z
DTEND:20151027T220000Z
X-MICROSOFT-CDO-ALLDAYEVENT:FALSE
SUMMARY:Business Card Exchange
DESCRIPTION:Enjoy refreshments and networking with fellow Chamber members\, and tour the newly renovated Seniors' Center.\n\n\n\nMembers only!\n\n\n\nReservations appreciated.
X-ALT-DESC;FMTTYPE=text/html:<title></title>\n<p><span style="font-size:12px\;"><span style="font-family:arial\;">Enjoy refreshments and networking&nbsp\;with fellow Chamber members\, and tour the newly renovated Seniors&#39\; Center.</span></span><br />\n<br />\n<span style="font-size:12px\;"><span style="font-family:arial\;"><span style="color:#FF0000\;"><strong>Members only!</strong></span><br />\n<br />\nReservations appreciated.</span></span></p>\n\n<p style="text-align: justify\;"><br />\n<br />\n&nbsp\;</p>\n\n<p style="text-align: justify\;">&nbsp\;</p>\n
LOCATION:Pottstown Area Seniors' Center 288 Moser Rd. Pottstown\, PA 19464
UID:e.2183.844866
SEQUENCE:3
DTSTAMP:20260426T012114Z
URL:https://business.tricountyareachamber.com/events/details/business-card-exchange-10-27-2015-844866
END:VEVENT

END:VCALENDAR
