BEGIN:VCALENDAR
VERSION:2.0
PRODID:-//ChamberMaster//Event Calendar 2.0//EN
METHOD:PUBLISH
X-PUBLISHED-TTL:P3D
REFRESH-INTERVAL:P3D
CALSCALE:GREGORIAN
BEGIN:VEVENT
DTSTART:20170228T210000Z
DTEND:20170228T230000Z
X-MICROSOFT-CDO-ALLDAYEVENT:FALSE
SUMMARY:Business Card Exchange
DESCRIPTION:Enjoy networking and refreshments with fellow Chamber members. Don't miss out on the entertainment for the evening - Ari the Roaming Magician.\n\n\n\nEnter your business cards for the giveaways:\n\n\n	One hour massage at Massage Envy\n	$100 gift certificate for Firebirds\n	$50 gift certificate for Piazza Presto\n\n\n\n\nMembers only!\n\n\n\nReservations appreciated.
X-ALT-DESC;FMTTYPE=text/html:<title></title>\n<p><span style="font-family:times new roman\;"><span style="font-size:12.0pt\;">Enjoy&nbsp\;networking and refreshments with fellow Chamber members. Don&#39\;t miss out on the entertainment for the evening - Ari the Roaming Magician.</span><br />\n<br />\n<span style="font-size:16px\;">Enter your business cards for the giveaways:</span></span></p>\n\n<ul>\n	<li><span style="font-size:16px\;"><span style="font-family:times new roman\;">One hour massage at Massage Envy</span></span></li>\n	<li><span style="font-size:16px\;"><span style="font-family:times new roman\;">$100 gift certificate for Firebirds</span></span></li>\n	<li><span style="font-size:16px\;"><span style="font-family:times new roman\;">$50 gift certificate for Piazza Presto</span></span></li>\n</ul>\n\n<p><br />\n<span style="font-family:times new roman\;"><span style="font-size:12px\;"><span style="color:#FF0000\;"><strong>Members only!</strong></span><br />\n<br />\nReservations appreciated.</span></span></p>\n\n<p style="text-align: justify\;"><br />\n<br />\n&nbsp\;</p>\n\n<p style="text-align: justify\;">&nbsp\;</p>\n
LOCATION:Keller Williams Realty Group 542 N. Lewis Rd.\, Suite 100 Limerick\, PA 19468
UID:e.2183.847391
SEQUENCE:3
DTSTAMP:20260420T151929Z
URL:https://business.tricountyareachamber.com/events/details/business-card-exchange-847391
END:VEVENT

END:VCALENDAR
