BEGIN:VCALENDAR
VERSION:2.0
PRODID:-//ChamberMaster//Event Calendar 2.0//EN
METHOD:PUBLISH
X-PUBLISHED-TTL:P3D
REFRESH-INTERVAL:P3D
CALSCALE:GREGORIAN
BEGIN:VEVENT
DTSTART:20170328T200000Z
DTEND:20170328T220000Z
X-MICROSOFT-CDO-ALLDAYEVENT:FALSE
SUMMARY:Business Card Exchange
DESCRIPTION:After some networking and refreshments with fellow Chamber members\, why not get a group together and receive a discount for a game of Laser Tag.  There is also free shoe rental if you would rather try your luck at Bowling.  You can also enter your business card into the drawing for a $50 Gift Card to the bowling alley.\n\n\n\nMembers only!\n\n\n\nReservations appreciated.
X-ALT-DESC;FMTTYPE=text/html:<title></title>\n<p><span style="font-family:times new roman\,serif\;"><span style="font-size:12.0pt\;">After some networking and refreshments with fellow Chamber members\, why not get a group together and receive a discount for a game of <strong>Laser Tag</strong>.&nbsp\; There is also free shoe rental if you would rather try your luck at <strong>Bowling</strong>.&nbsp\; You can also enter your business card into the drawing for a $50 Gift Card to the bowling alley.</span></span></p>\n\n<p><br />\n<span style="font-family:times new roman\;"><span style="font-size:12px\;"><span style="color:#FF0000\;"><strong>Members only!</strong></span><br />\n<br />\nReservations appreciated.</span></span></p>\n\n<p style="text-align: justify\;"><br />\n<br />\n&nbsp\;</p>\n\n<p style="text-align: justify\;">&nbsp\;</p>\n
LOCATION:Jay Lanes Bowling and Laser Tag 1428 Ben Franklin Highway East Douglassville\, PA 19518
UID:e.2183.847479
SEQUENCE:3
DTSTAMP:20260420T181412Z
URL:https://business.tricountyareachamber.com/events/details/business-card-exchange-847479
END:VEVENT

END:VCALENDAR
