BEGIN:VCALENDAR
VERSION:2.0
PRODID:-//ChamberMaster//Event Calendar 2.0//EN
METHOD:PUBLISH
X-PUBLISHED-TTL:P3D
REFRESH-INTERVAL:P3D
CALSCALE:GREGORIAN
BEGIN:VEVENT
DTSTART:20170418T210000Z
DTEND:20170418T230000Z
X-MICROSOFT-CDO-ALLDAYEVENT:FALSE
SUMMARY:Business Card Exchange
DESCRIPTION:Spring is nature's way of saying "Lets Party!"\n\n \n\nTake a break from spring cleaning\, put a little spring in your step\, and join us at the Citadel branch in Pottstown to celebrate Spring!\n\n\n\nAlso\, fellow Chamber Member Juan Carlos Fine Mexican Cuisine will be catering this event.\n\n\n\nDon't forget to enter your business card for a chance to win a prize donated by Citadel!\n\nMembers only!\n\n\n\nReservations appreciated.
X-ALT-DESC;FMTTYPE=text/html:<title></title>\n<p style="text-align: center\;"><span style="font-size:14px\;"><span style="font-family:arial\;"><em><strong>Spring is nature&#39\;s way of saying &quot\;Lets Party!&quot\;</strong></em></span></span><br />\n&nbsp\;</p>\n\n<p><span style="font-size:14px\;"><span style="font-family:arial\;">Take a break from<em> spring cleaning</em>\, put a little <em>spring in your step</em>\, and join us at the Citadel branch in Pottstown&nbsp\;to celebrate Spring!<br />\n<br />\nAlso\, fellow Chamber Member <strong>Juan Carlos Fine Mexican Cuisine</strong> will be catering this event.<br />\n<br />\nDon&#39\;t forget to enter your business card for a chance to win a prize donated by Citadel!</span></span></p>\n\n<p><span style="font-family:times new roman\;"><span style="font-size:12px\;"><span style="color:#FF0000\;"><strong>Members only!</strong></span><br />\n<br />\nReservations appreciated.</span></span></p>\n\n<p style="text-align: justify\;"><br />\n<br />\n&nbsp\;</p>\n\n<p style="text-align: justify\;">&nbsp\;</p>\n
LOCATION:Citadel Federal Credit Union 401 Upland Square Drive Pottstown\, PA 19464
UID:e.2183.847573
SEQUENCE:3
DTSTAMP:20260420T181854Z
URL:https://business.tricountyareachamber.com/events/details/business-card-exchange-847573
END:VEVENT

END:VCALENDAR
