BEGIN:VCALENDAR
VERSION:2.0
PRODID:-//ChamberMaster//Event Calendar 2.0//EN
METHOD:PUBLISH
X-PUBLISHED-TTL:P3D
REFRESH-INTERVAL:P3D
CALSCALE:GREGORIAN
BEGIN:VEVENT
DTSTART:20170530T200000Z
DTEND:20170530T220000Z
X-MICROSOFT-CDO-ALLDAYEVENT:FALSE
SUMMARY:Business Card Exchange
DESCRIPTION:Join us by the pool for networking and refreshments! Each attendee will receive a ticket for a complimentary beverage from the pool bar. Cash bar will be available for additional drinks.\n\n\n\nDrop your business card for your chance to win a foursome of golf!\n\n \n\nMembers only!\n\n\n\nReservations appreciated.
X-ALT-DESC;FMTTYPE=text/html:<div>Join us by the pool for networking and refreshments! Each attendee will receive a ticket for a complimentary beverage from the pool bar. Cash bar will be available for additional drinks.<br />\n<br />\nDrop your business card for your chance to win a foursome of golf!</div>\n<title></title>\n<p style="text-align: center\;">&nbsp\;</p>\n\n<p><span style="font-family:times new roman\;"><span style="font-size:12px\;"><span style="color:#FF0000\;"><strong>Members only!</strong></span><br />\n<br />\nReservations appreciated.</span></span></p>\n\n<p style="text-align: justify\;"><br />\n<br />\n&nbsp\;</p>\n\n<p style="text-align: justify\;">&nbsp\;</p>\n
LOCATION:Bellewood Country Club 400 East Schuylkill Road North Coventry\, PA 19465
UID:e.2183.847607
SEQUENCE:3
DTSTAMP:20260420T213433Z
URL:https://business.tricountyareachamber.com/events/details/business-card-exchange-847607
END:VEVENT

END:VCALENDAR
