BEGIN:VCALENDAR
VERSION:2.0
PRODID:-//ChamberMaster//Event Calendar 2.0//EN
METHOD:PUBLISH
X-PUBLISHED-TTL:P3D
REFRESH-INTERVAL:P3D
CALSCALE:GREGORIAN
BEGIN:VEVENT
DTSTART:20170627T200000Z
DTEND:20170627T220000Z
X-MICROSOFT-CDO-ALLDAYEVENT:FALSE
SUMMARY:Business Card Exchange
DESCRIPTION:Networking and refreshments with fellow Members! VIVA will be offering light hors d'oeuvres as well as a discounted cash bar for cocktails.  The event will be hosted outside on the cocktail deck\, weather permitting. \n\n \nDrop your business cards in the drawing for a change to win either a catered lunch for 6 or a catered lunch for 12.  \n\n \nOn the way out\, don't forget to pick up your swag bag filled with information and coupons.\n\n \n\nMembers only!\n\n\n\nReservations appreciated.
X-ALT-DESC;FMTTYPE=text/html:<div>Networking and refreshments with fellow Members! <span style="font-family:calibri\,sans-serif\;"><span style="font-size:11.0pt\;">VIVA will be offering light hors d&rsquo\;oeuvr</span></span><span style="font-family: calibri\, sans-serif\; font-size: 14.6667px\;">es as well as a discounted cash bar for cocktails. &nbsp\;The event w</span><span style="font-family: calibri\, sans-serif\; font-size: 14.6667px\;">ill be hosted outside on the cocktail deck\, weather permitting.&nbsp\;</span><br />\n&nbsp\;</div>\n<span style="font-family: calibri\, sans-serif\; font-size: 14.6667px\;">Drop your business cards in the drawing for a change to win</span><span style="font-family: calibri\, sans-serif\; font-size: 14.6667px\;">&nbsp\;either&nbsp\;</span><span style="font-family: calibri\, sans-serif\; font-size: 14.6667px\;">a catered lunch for 6 or</span><span style="font-family: calibri\, sans-serif\; font-size: 14.6667px\;">&nbsp\;a catered lunch for 12.&nbsp\;&nbsp\;</span><br style="font-family: calibri\, sans-serif\; font-size: 14.6667px\;" />\n&nbsp\;\n<div><span style="font-family:calibri\,sans-serif\;"><span style="font-size:11.0pt\;">On the way out\, don&#39\;t forget to pick up your&nbsp\;swag bag&nbsp\;filled with information and coupons.</span></span></div>\n<title></title>\n<p style="text-align: center\;">&nbsp\;</p>\n\n<p><span style="font-family:times new roman\;"><span style="font-size:12px\;"><span style="color:#FF0000\;"><strong>Members only!</strong></span><br />\n<br />\nReservations appreciated.</span></span></p>\n\n<p style="text-align: justify\;"><br />\n<br />\n&nbsp\;</p>\n\n<p style="text-align: justify\;">&nbsp\;</p>\n
LOCATION:Reading Country Club by ViVa Catering 5311 Perkiomen Avenue Reading\, PA 19606
UID:e.2183.847612
SEQUENCE:3
DTSTAMP:20260420T213433Z
URL:https://business.tricountyareachamber.com/events/details/business-card-exchange-847612
END:VEVENT

END:VCALENDAR
