BEGIN:VCALENDAR
VERSION:2.0
PRODID:-//ChamberMaster//Event Calendar 2.0//EN
METHOD:PUBLISH
X-PUBLISHED-TTL:P3D
REFRESH-INTERVAL:P3D
CALSCALE:GREGORIAN
BEGIN:VEVENT
DTSTART:20170829T123000Z
DTEND:20170829T143000Z
X-MICROSOFT-CDO-ALLDAYEVENT:FALSE
SUMMARY:Business Card Exchange
DESCRIPTION:Join us for a morning mixer at Productivity Pointe LLC - promoting living\, working\, eating\, playing in Pottstown!\n\nMembers only!\n\n\n\nReservations appreciated.\n\n\n\nThere is limited parking available in the lot at 152 High St. You must have a permit to park in a reserved space or you may be ticketed/towed.  Parking is available on High St. for up to 3 hours at no charge\, or in the Freight Station Municipal lot\, across the railroad tracks (enter off Hanover St.) for a small fee.
X-ALT-DESC;FMTTYPE=text/html:<p>Join us for a morning mixer at Productivity Pointe LLC - promoting living\, working\, eating\, playing in Pottstown!</p>\n\n<p><span style="font-family:times new roman\;"><span style="font-size:12px\;"><span style="color:#FF0000\;"><strong>Members only!</strong></span><br />\n<br />\nReservations appreciated.</span></span></p>\n\n<p style="text-align: justify\;"><br />\n<em><span style="font-size:11px\;"><span style="color: rgb(51\, 51\, 51)\; font-family: arial\; background-color: rgb(255\, 255\, 255)\;">There is&nbsp\;limited parking available in the lot&nbsp\;at&nbsp\;152 High St.&nbsp\;You must have a permit to park in a reserved space or you&nbsp\;may be ticketed/towed.&nbsp\; Parking is available on High St. for up to 3 hours at no charge\, or in the Freight Station Municipal lot\, across the railroad tracks (enter off Hanover St.) for a small fee.</span></span></em></p>\n\n<p style="text-align: justify\;">&nbsp\;</p>\n
LOCATION:Productivity Pointe LLC 152 E. High St.\, Suite 440 Pottstown\, PA 19464
UID:e.2183.848713
SEQUENCE:3
DTSTAMP:20260421T025220Z
URL:https://business.tricountyareachamber.com/events/details/business-card-exchange-848713
END:VEVENT

END:VCALENDAR
