BEGIN:VCALENDAR
VERSION:2.0
PRODID:-//ChamberMaster//Event Calendar 2.0//EN
METHOD:PUBLISH
X-PUBLISHED-TTL:P3D
REFRESH-INTERVAL:P3D
CALSCALE:GREGORIAN
BEGIN:VEVENT
DTSTART:20171114T210000Z
DTEND:20171114T230000Z
X-MICROSOFT-CDO-ALLDAYEVENT:FALSE
SUMMARY:Business Card Exchange
DESCRIPTION:Join us at the Pottstown Regional Public Library at 500 E. High Street for a special Business Card Exchange for our Chamber chapter on Nov 14th. As a turn-of-the-page for the traditional door prize\, the winner of the business card drawing will be honored by an anonymous donor with a $100 contribution in the winner's name to their childhood Library.  The wine and beer bar will be annotated to feature the literary connection  to the brewers and vintners\, and the hor dourves-table contents will be from Grumpy's. A short tour of our many renovations in the past year will be plotted out for you.\n\n\n\nAnd\, perhaps most importantly\, there will be an introduction to the Library's new Executive Director\, Michelle Kehoe.\n\n\n\nMembers only!\n\nReservations appreciated.
X-ALT-DESC;FMTTYPE=text/html:<p><span style="font-family:verdana\;"><span style="font-size:14px\;">Join us at the Pottstown Regional Public Library at 500 E. High Street for a special Business Card Exchange for our Chamber <strong><em>chapter</em> </strong>on Nov 14th. As a <strong><em>turn-of-the-page</em></strong> for the traditional door prize\, the winner of the business card drawing will be honored by an anonymous donor with a $100 contribution in the winner&#39\;s name to their childhood Library.&nbsp\; The wine and beer bar will be<em>&nbsp\;<strong>annotated</strong></em><strong>&nbsp\;</strong>to feature the literary connection&nbsp\; to the brewers and vintners\, and the hor dourves-<strong><em>table</em></strong><strong><em> contents</em></strong> will be from Grumpy&#39\;s. A short tour of our many renovations in the past year will be <strong><em>plotted</em> </strong>out for you.<br />\n<br />\nAnd\, perhaps most importantly\, there will be an <strong><em>introduction</em> </strong>to the Library&#39\;s new Executive Director\, Michelle Kehoe.</span></span></p>\n\n<p><br />\n<span style="font-family:times new roman\;"><span style="font-size:12px\;"><span style="color:#FF0000\;"><strong>Members only!</strong></span><br />\nReservations appreciated.</span></span></p>\n
LOCATION:Pottstown Regional Public Library 500 E. High St. Pottstown\, PA 19464
UID:e.2183.848727
SEQUENCE:3
DTSTAMP:20260421T060959Z
URL:https://business.tricountyareachamber.com/events/details/business-card-exchange-848727
END:VEVENT

END:VCALENDAR
