BEGIN:VCALENDAR
VERSION:2.0
PRODID:-//ChamberMaster//Event Calendar 2.0//EN
METHOD:PUBLISH
X-PUBLISHED-TTL:P3D
REFRESH-INTERVAL:P3D
CALSCALE:GREGORIAN
BEGIN:VEVENT
DTSTART:20170926T200000Z
DTEND:20170926T220000Z
X-MICROSOFT-CDO-ALLDAYEVENT:FALSE
SUMMARY:Business Card Exchange
DESCRIPTION:This event is located at the Santander Performing Arts Center.  (NOT the Arena)\n\nThe Santander Arena & Santander Performing Arts Center invites members of the Tri County Chamber of Commerce to join us for a night of light refreshments\, drinks\, and conversation in the main lobby of the historic Santander Performing Arts Center.\n\n\n\nWe'll feature hors d'oeuvres prepared by our Executive Chef of 15 years\, Brian Berger and his team\, drinks\, and tours of the Santander Performing Arts Center's theatre and 3 ballrooms. Attendees will also get the opportunity to mingle with the Berks County Convention Center Authority Board Members and other prominent business owners/employees in the Greater Reading Community.\n\n\n\nWe will also raffle some exciting prizes to attendees\n\n\n	Night at the DoubleTree Hotel Reading\n	Tickets to an upcoming perfomance\n\n\nMembers only!\n\n\n\nReservations appreciated.
X-ALT-DESC;FMTTYPE=text/html:<p style="text-align: center\;"><strong><span style="color:#FF0000\;">This event is located at the Santander Performing Arts Center. &nbsp\;<u><em>(NOT the Arena)</em></u></span></strong></p>\n\n<p>The Santander Arena &amp\; Santander Performing Arts Center invites members of the Tri County Chamber of Commerce to join us for a night of light refreshments\, drinks\, and conversation in the main lobby of the historic <strong>Santander Performing Arts Center</strong>.<br />\n<br />\nWe&rsquo\;ll feature hors d&rsquo\;oeuvres prepared by our Executive Chef of 15 years\, Brian Berger and his team\, drinks\, and tours of the Santander Performing Arts Center&rsquo\;s theatre and 3 ballrooms. Attendees will also get the opportunity to mingle with the Berks County Convention Center Authority Board Members and other prominent business owners/employees in the Greater Reading Community.<br />\n<br />\nWe will also raffle some exciting prizes&nbsp\;to attendees</p>\n\n<ul>\n	<li>Night at the DoubleTree Hotel Reading</li>\n	<li>Tickets to an upcoming perfomance</li>\n</ul>\n\n<p><span style="font-family:times new roman\;"><span style="font-size:12px\;"><span style="color:#FF0000\;"><strong>Members only!</strong></span><br />\n<br />\nReservations appreciated.</span></span></p>\n
LOCATION:Santander Performing Arts Center 136 N. 6th Street Reading\, PA 19601 Detailed Directions: The Santander Performing Arts Center is located at 136 N. 6th Street in Downtown Reading. The city has begun renovations on the bridges in and around the city. At this time\, the US 422 west ramp to Penn Street (towards the City of Reading) is closed and detoured. The posted detour utilizes the Business 222/Lancaster Avenue exit to Bingaman Street and Fifth Street. Motorists who miss the Lancaster Avenue exit can also use the North Wyomissing Boulevard exit to North Wyomissing Boulevard to Park Road to Penn Avenue/Penn Street. Get the latest news updates on the Reading bridge repairs and detour maps please visit: www.readingbridges.net Parking: Convenient parking for the Santander PAC is located on the corner of Poplar and Walnut Streets (garage 3 listed below 130 Poplar Street\, Reading\, PA). Simply pass the PAC\, the next street ahead is Walnut. Make a right onto Walnut and you will start to see signs for parking. There are garages located off of Court Street as well. Street parking is also available with meters in effect until 6PM.
UID:e.2183.848770
SEQUENCE:3
DTSTAMP:20260421T025221Z
URL:https://business.tricountyareachamber.com/events/details/business-card-exchange-848770
END:VEVENT

END:VCALENDAR
