BEGIN:VCALENDAR
VERSION:2.0
PRODID:-//ChamberMaster//Event Calendar 2.0//EN
METHOD:PUBLISH
X-PUBLISHED-TTL:P3D
REFRESH-INTERVAL:P3D
CALSCALE:GREGORIAN
BEGIN:VEVENT
DTSTART:20171212T220000Z
DTEND:20171213T000000Z
X-MICROSOFT-CDO-ALLDAYEVENT:FALSE
SUMMARY:Business Card Exchange
DESCRIPTION:Celebrate the holiday season with festive decorations\, exquisite hors d'oeuvres\, wine\, beer and beverages while networking with fellow Chamber Members and enjoying the delightful sounds on the baby grand piano by pianist\, Jeremy Fanucci. Enter your business card to win a gift basket donated by The Victory Bank.\n\n\n\nMembers only!\n\n\n\nReservations appreciated.
X-ALT-DESC;FMTTYPE=text/html:<title></title>\n<p><span style="font-family: arial\; font-size: 12px\; background-color: rgb(255\, 255\, 255)\;">Celebrate the holiday season with festive decorations\, exquisite hors d&rsquo\;oeuvres\, wine\, beer and beverages while networking with fellow Chamber Members and enjoying the&nbsp\;delightful sounds on the baby grand piano by pianist\, Jeremy Fanucci.&nbsp\;Enter your business card to win a gift basket donated by The Victory Bank.</span><br />\n<br />\n<span style="font-size:12px\;"><span style="font-family:arial\;"><span style="color:#FF0000\;"><strong>Members only!</strong></span><br />\n<br />\nReservations appreciated.</span></span></p>\n\n<p style="text-align: justify\;"><br />\n<br />\n&nbsp\;</p>\n\n<p style="text-align: justify\;">&nbsp\;</p>\n
LOCATION:The Victory Bank 548 N. Lewis Rd. Limerick\, PA 19468
UID:e.2183.848823
SEQUENCE:3
DTSTAMP:20260421T080200Z
URL:https://business.tricountyareachamber.com/events/details/business-card-exchange-848823
END:VEVENT

END:VCALENDAR
