BEGIN:VCALENDAR
VERSION:2.0
PRODID:-//ChamberMaster//Event Calendar 2.0//EN
METHOD:PUBLISH
X-PUBLISHED-TTL:P3D
REFRESH-INTERVAL:P3D
CALSCALE:GREGORIAN
BEGIN:VEVENT
DTSTART:20180123T210000Z
DTEND:20180123T230000Z
X-MICROSOFT-CDO-ALLDAYEVENT:FALSE
SUMMARY:Business Card Exchange
DESCRIPTION:Networking\, refreshments\, and a special book signing of Dr. Randy Yucha & Dr. Rod Gabel's new book "A Unique Approach to Your Health: Putting the Whole Team Behind You!"\n\n\n\nMembers only!\n\n\n\nReservations appreciated.
X-ALT-DESC;FMTTYPE=text/html:<title></title>\n<p><span style="font-size: 12px\;"><span style="font-family: arial\;">Networking\, refreshments\, and a special book signing of Dr. Randy Yucha &amp\; Dr. Rod Gabel&#39\;s&nbsp\;new book &quot\;A Unique Approach to Your Health: Putting the Whole Team Behind You!&quot\;</span></span><br />\n<br />\n<span style="font-size: 12px\;"><span style="font-family: arial\;"><span style="color: rgb(255\, 0\, 0)\;"><strong>Members only!</strong></span><br />\n<br />\nReservations appreciated.</span></span></p>\n\n<p style="text-align: justify\;"><br />\n<br />\n&nbsp\;</p>\n\n<p style="text-align: justify\;">&nbsp\;</p>\n
LOCATION:Yucha Medical Pain Management & Chiropractic Rehabilitation 435 W. Cedarville Rd. Pottstown\, PA 19464
UID:e.2183.848877
SEQUENCE:3
DTSTAMP:20260421T094020Z
URL:https://business.tricountyareachamber.com/events/details/business-card-exchange-848877
END:VEVENT

END:VCALENDAR
