BEGIN:VCALENDAR
VERSION:2.0
PRODID:-//ChamberMaster//Event Calendar 2.0//EN
METHOD:PUBLISH
X-PUBLISHED-TTL:P3D
REFRESH-INTERVAL:P3D
CALSCALE:GREGORIAN
BEGIN:VEVENT
DTSTART:20180313T200000Z
DTEND:20180313T220000Z
X-MICROSOFT-CDO-ALLDAYEVENT:FALSE
SUMMARY:Business Card Exchange- Berks\, Fire Water Restorations\, Inc.
DESCRIPTION:Come join us! Berks Fire Water Restorations Inc. welcomes Chamber members to come out and enjoy some snacks and drinks while touring their fantastic facility. Learn about how Berks Fire Water Restorations Inc. not only restores your home\, they restore your life!
X-ALT-DESC;FMTTYPE=text/html:Come join us! Berks Fire Water Restorations Inc. welcomes Chamber members to come out and enjoy some snacks and drinks while touring their fantastic facility. Learn about how Berks Fire Water Restorations Inc. not only restores your home\, they restore your life!
LOCATION:Berks Fire Water Restorations\, Inc. 1145 Commons Blvd. Reading\, PA 19605
UID:e.2183.849179
SEQUENCE:3
DTSTAMP:20260421T124013Z
URL:https://business.tricountyareachamber.com/events/details/business-card-exchange-berks-fire-water-restorations-inc-849179
END:VEVENT

END:VCALENDAR
