BEGIN:VCALENDAR
VERSION:2.0
PRODID:-//ChamberMaster//Event Calendar 2.0//EN
METHOD:PUBLISH
X-PUBLISHED-TTL:P3D
REFRESH-INTERVAL:P3D
CALSCALE:GREGORIAN
BEGIN:VEVENT
DTSTART:20181213T220000Z
DTEND:20181214T000000Z
X-MICROSOFT-CDO-ALLDAYEVENT:FALSE
SUMMARY:Business Card Exchange- Victory Bank
DESCRIPTION:It's the Holiday Season and Victory Bank would like all Chamber Members to come out to their offices and celebrate! This mixer features wonderful decorations and Christmas music to get you in the holiday mood. Victory Bank enjoys bringing the holiday cheer to the area and community.
X-ALT-DESC;FMTTYPE=text/html:It&#39\;s the Holiday Season and Victory Bank would like all Chamber Members to come out to their offices and celebrate! This mixer features wonderful decorations and Christmas music to get you in the holiday mood. Victory Bank enjoys bringing the holiday cheer to the area and community.
LOCATION:The Victory Bank 548 N. Lewis Rd\, Limerick PA 19468
UID:e.2183.851520
SEQUENCE:3
DTSTAMP:20260423T115224Z
URL:https://business.tricountyareachamber.com/events/details/business-card-exchange-victory-bank-851520
END:VEVENT

END:VCALENDAR
