BEGIN:VCALENDAR
VERSION:2.0
PRODID:-//ChamberMaster//Event Calendar 2.0//EN
METHOD:PUBLISH
X-PUBLISHED-TTL:P3D
REFRESH-INTERVAL:P3D
CALSCALE:GREGORIAN
BEGIN:VEVENT
DTSTART:20180227T210000Z
DTEND:20180227T230000Z
X-MICROSOFT-CDO-ALLDAYEVENT:FALSE
SUMMARY:Business Card Exchange- Wyndcroft School
DESCRIPTION:100 Years in the Making! Networking and refreshments to be enjoyed while discovering the past 100 years of Wyndcroft's history. Tours and entertainment will be available for attendees to fully experience all that the school has to offer.
X-ALT-DESC;FMTTYPE=text/html:<span style="font-family: arial\,sans-serif\;"><span style="font-size: medium\;">100 Years in the Making! Networking and refreshments to be enjoyed while discovering the past 100 years of Wyndcroft&rsquo\;s history. Tours and entertainment will be available for attendees to fully experience all that the school has to offer. </span></span><br />\n&nbsp\;
LOCATION:The Wyndcroft School- Main Entrance 1395 Wilson St\, Pottstown\, PA 19464
UID:e.2183.849154
SEQUENCE:3
DTSTAMP:20260421T110608Z
URL:https://business.tricountyareachamber.com/events/details/business-card-exchange-wyndcroft-school-849154
END:VEVENT

END:VCALENDAR
