BEGIN:VCALENDAR
VERSION:2.0
PRODID:-//ChamberMaster//Event Calendar 2.0//EN
METHOD:PUBLISH
X-PUBLISHED-TTL:P3D
REFRESH-INTERVAL:P3D
CALSCALE:GREGORIAN
BEGIN:VEVENT
DTSTART:20180918T200000Z
DTEND:20180918T220000Z
X-MICROSOFT-CDO-ALLDAYEVENT:FALSE
SUMMARY:Business Spotlight- Steel River
DESCRIPTION:Experience for yourself the Steel River Playhouse that is home to over 90 plays\, musicals\, concerts\, and recitals every year. They strive to bring together the performing arts with the much needed economic growth of the downtown Pottstown area. As an artistic outlet in the community\, Steel River prides itself on investing in the future of the local residents and children.\n\n\n\nCome out and experience the amazing venue for yourself and you could win tickets to one of the next upcoming shows!
X-ALT-DESC;FMTTYPE=text/html:Experience for yourself the Steel River Playhouse that is home to over 90 plays\, musicals\, concerts\, and recitals every year. They strive to bring together the performing arts with the much needed economic growth of the downtown Pottstown area. As an artistic outlet&nbsp\;in the community\, Steel River prides itself on investing in the future of the local residents and children.<br />\n<br />\nCome out and experience the amazing venue for yourself and you could win tickets to one of the next upcoming shows!
LOCATION:245 E. High St. Pottstown PA 19464
UID:e.2183.850507
SEQUENCE:3
DTSTAMP:20260423T181045Z
URL:https://business.tricountyareachamber.com/events/details/business-spotlight-steel-river-850507
END:VEVENT

END:VCALENDAR
