BEGIN:VCALENDAR
VERSION:2.0
PRODID:-//ChamberMaster//Event Calendar 2.0//EN
METHOD:PUBLISH
X-PUBLISHED-TTL:P3D
REFRESH-INTERVAL:P3D
CALSCALE:GREGORIAN
BEGIN:VEVENT
DTSTART:20170522T153000Z
DTEND:20170522T170000Z
X-MICROSOFT-CDO-ALLDAYEVENT:FALSE
SUMMARY:Busting Nutrition Myths
DESCRIPTION:Myth or Truth?\n\nBananas are the best source of potassium...\n\nEating fat will make you fat...\n\nAvoid carbs if you want to lose weight...\n\n\nJessica Garnett\, Registered Dietician at Creative Health Services\, Inc.\, will answer all of your nutrition questions and help you distinguish between fact and myth!\n\n\n\nA healthy lunch will be provided.\n\n\n\nThis event is brought to you by the Chamber's Worksite Wellness Initiative. For more information on the program\, please click here or contact Bunny Boyle at bunny@tricountyareachamber.com.
X-ALT-DESC;FMTTYPE=text/html:<div style="text-align: center\;"><span style="color:#008000\;"><em><strong>Myth or Truth?<br />\nBananas are the best source of potassium...<br />\nEating fat will make you fat...<br />\nAvoid carbs if you want to lose weight...</strong></em></span></div>\n<br />\n<strong>Jessica Garnett</strong>\, Registered Dietician at Creative Health Services\, Inc.\, will answer all of your nutrition questions and help you distinguish between fact and myth!<br />\n<br />\nA healthy lunch will be provided.<br />\n<br />\nThis event is brought to you by the Chamber&#39\;s Worksite Wellness Initiative. For more information on the program\, please <a href="http://www.tricountyareachamber.com/worksite-wellness/">click here</a> or contact Bunny Boyle at <a href="mailto:bunny@tricountyareachamber.com">bunny@tricountyareachamber.com</a>.&nbsp\;
LOCATION:Chamber Office 152 E. High St.\, Suite 360 Pottstown\, PA 19464
UID:e.2183.847645
SEQUENCE:3
DTSTAMP:20260420T213325Z
URL:https://business.tricountyareachamber.com/events/details/busting-nutrition-myths-847645
END:VEVENT

END:VCALENDAR
