BEGIN:VCALENDAR
VERSION:2.0
PRODID:-//ChamberMaster//Event Calendar 2.0//EN
METHOD:PUBLISH
X-PUBLISHED-TTL:P3D
REFRESH-INTERVAL:P3D
CALSCALE:GREGORIAN
BEGIN:VEVENT
DTSTART:20170625T130000Z
DTEND:20170625T150000Z
X-MICROSOFT-CDO-ALLDAYEVENT:FALSE
SUMMARY:Butterfly ID Workshop and Walk
DESCRIPTION:Learn more about the wonderful world of butterflies during this introductory workshop and nature walk!\n\nJoin GVWA staff to learn the basics of butterfly identification and how to support them on your own property\, and then follow us on a walk around Welkinweir's gardens and meadows to search for these colorful and fascinating pollinators. We will record our observations for reporting to a pollinator citizen science initiative. Participants take home a pocket field guide to Pennsylvania's most iconic butterflies and moths.\n\nNo experience necessary. Please dress for the season and wear sturdy shoes. Bring binoculars and water. This event will be postponed in the event of inclement weather.\n\nFees per person: $7 GVWA Members / $9 Nonmembers\n\nPlease sign up in advance for this event by contacting Kelsey Stanton at kelsey@greenvalleys.org or at 610-469-4900.
X-ALT-DESC;FMTTYPE=text/html:<h2 style="text-shadow: rgb(255\, 255\, 255) 0px 1px 0px\; margin: 11px 0px\; font-family: Montserrat\; font-weight: 400\; font-size: 28px\; line-height: 28px\; background-color: rgb(250\, 250\, 250)\;">Learn more about the wonderful world of butterflies during this introductory workshop and nature walk!</h2>\n\n<p style="margin: 0px 0px 10px\; font-size: 16px\; line-height: 1.7\; font-family: Neuton\; background-color: rgb(250\, 250\, 250)\;">Join GVWA staff to learn the basics of butterfly identification and how to support them on your own property\, and then follow us on a walk around Welkinweir&rsquo\;s gardens and meadows to search for these colorful and fascinating pollinators. We will record our observations for reporting to a pollinator citizen science initiative.&nbsp\;Participants take home a pocket field guide to Pennsylvania&rsquo\;s most iconic butterflies and moths.</p>\n\n<p style="margin: 0px 0px 10px\; font-size: 16px\; line-height: 1.7\; font-family: Neuton\; background-color: rgb(250\, 250\, 250)\;">No experience necessary. Please dress for the season and wear sturdy shoes. Bring binoculars and water. This event will be postponed in the event of inclement weather.</p>\n\n<p style="margin: 0px 0px 10px\; font-size: 16px\; line-height: 1.7\; font-family: Neuton\; background-color: rgb(250\, 250\, 250)\;"><span style="font-weight: 700\;">Fees per person: $7 GVWA Members / $9 Nonmembers</span></p>\n\n<p style="margin: 0px 0px 10px\; font-size: 16px\; line-height: 1.7\; font-family: Neuton\; background-color: rgb(250\, 250\, 250)\;">Please sign up in advance for this event by contacting Kelsey Stanton at&nbsp\;<span style="text-decoration-line: underline\;"><a href="mailto:kelsey@greenvalleys.org" rel="noopener noreferrer" style="color: rgb(0\, 136\, 204)\; text-decoration-line: none\; transition-property: border\, background\, color\; transition-duration: 0.15s\; transition-timing-function: ease-in-out\;" target="_blank">kelsey@greenvalleys.org</a></span>&nbsp\;or at 610-469-4900.</p>\n
LOCATION:Welkinweir 1368 Prizer Road Pottstown\, PA 19465
UID:e.2183.847687
SEQUENCE:3
DTSTAMP:20260420T213314Z
URL:https://business.tricountyareachamber.com/events/details/butterfly-id-workshop-and-walk-847687
END:VEVENT

END:VCALENDAR
