BEGIN:VCALENDAR
VERSION:2.0
PRODID:-//ChamberMaster//Event Calendar 2.0//EN
METHOD:PUBLISH
X-PUBLISHED-TTL:P3D
REFRESH-INTERVAL:P3D
CALSCALE:GREGORIAN
BEGIN:VEVENT
DTSTART:20170305T200000Z
DTEND:20170305T230000Z
X-MICROSOFT-CDO-ALLDAYEVENT:FALSE
SUMMARY:Cat Angel Network Benefit Concert
DESCRIPTION:Family & Friends of West Chester University School of Music Cordially Invite You to the 18th Annual\n\nCat Angel Network Benefit Concert\n\n\nFeaturing:\n\n	Kennett Symphony Children's Chorus plus faculty\, student\, and guest performers\n	Cat Videos\n	Reception following the event\n\nCat Angel Network is a no kill\, non-profit 501 (c)(3) all volunteer organization. Contributions are 100% tax deductible.
X-ALT-DESC;FMTTYPE=text/html:<div style="text-align: center\;"><em>Family &amp\; Friends of West Chester University School of Music Cordially Invite You to the 18th Annual</em><br />\n<em><strong><span style="font-size:18px\;">Cat Angel Network Benefit Concert</span></strong></em></div>\n<br />\nFeaturing:\n<ul>\n	<li>Kennett Symphony Children&#39\;s Chorus plus faculty\, student\, and guest performers</li>\n	<li>Cat Videos</li>\n	<li>Reception following the event</li>\n</ul>\nCat Angel Network is a no kill\, non-profit 501 (c)(3) all volunteer organization. Contributions are 100% tax deductible.
LOCATION:West Chester University Madeleine Wing Adler Theatre in Swope Hall 817 S. High St. West Chester\, PA 19383
UID:e.2183.847488
SEQUENCE:3
DTSTAMP:20260420T164213Z
URL:https://business.tricountyareachamber.com/events/details/cat-angel-network-benefit-concert-847488
END:VEVENT

END:VCALENDAR
