BEGIN:VCALENDAR
VERSION:2.0
PRODID:-//ChamberMaster//Event Calendar 2.0//EN
METHOD:PUBLISH
X-PUBLISHED-TTL:P3D
REFRESH-INTERVAL:P3D
CALSCALE:GREGORIAN
BEGIN:VEVENT
DTSTART:20211019T230000Z
DTEND:20211020T000000Z
X-MICROSOFT-CDO-ALLDAYEVENT:FALSE
SUMMARY:Celebrate Oktoberfest with Keystone Villa at Douglassville
DESCRIPTION:Experience a little bit of German heritage at Keystone Villa at Douglassville. Celebrate Oktoberfest with us on Tuesday\, Oct. 19\, at 7 p.m.\, at 1180 Ben Franklin Highway E.\, in Douglassville. You won't have to travel far to enjoy Oktoberfest. Stop by Keystone Villa at Douglassville and enjoy complimentary German music by the World's Wurst German Band\, root beer and soft pretzels. RSVP by Oct. 15\; please call Tina at 610-385-5000.
X-ALT-DESC;FMTTYPE=text/html:Experience a little bit of German heritage at Keystone Villa at Douglassville. Celebrate Oktoberfest with us on Tuesday\, Oct. 19\, at 7 p.m.\, at 1180 Ben Franklin Highway E.\, in Douglassville. You won&rsquo\;t have to travel far to enjoy Oktoberfest. Stop by Keystone Villa at Douglassville and enjoy complimentary German music by the World&rsquo\;s Wurst German Band\, root beer and soft pretzels. RSVP by Oct. 15\; please call Tina at 610-385-5000.
LOCATION:Keystone Villa at Douglassville 1180 Ben Franklin Highway E. Douglassville\, PA
UID:e.2183.856843
SEQUENCE:3
DTSTAMP:20260422T085838Z
URL:https://business.tricountyareachamber.com/events/details/celebrate-oktoberfest-with-keystone-villa-at-douglassville-856843
END:VEVENT

END:VCALENDAR
