BEGIN:VCALENDAR
VERSION:2.0
PRODID:-//ChamberMaster//Event Calendar 2.0//EN
METHOD:PUBLISH
X-PUBLISHED-TTL:P3D
REFRESH-INTERVAL:P3D
CALSCALE:GREGORIAN
BEGIN:VEVENT
DTSTART:20161107T180000Z
DTEND:20161107T210000Z
X-MICROSOFT-CDO-ALLDAYEVENT:FALSE
SUMMARY:Chamber Blood Drive
DESCRIPTION:Click here to register today!\n\n			Use Sponsor Code 5128\n\n			 \n			\n		\n	\n\n\n10 slots are available from 1PM - 4 PM.\n\n\n\nMiller-Keystone Blood Center now features iScreen\, allowing donors to complete their Donor History questionnaire online\, the day of the blood drive. A secure iScreen ticket is generated\, that can be printed or emailed to your smart phone and presented at the blood drive!\n\n\n\nBenefits of iScreen:\n\n\n	Less time spent at the blood drive\n	Answer the questions in private\n	Saves the environment by using the smart phone feature\n\n\n  \n\nWho benefits from your whole blood donation?\n\n\n	\n		\n			  Cancer patients\n			    Patients with internal bleeding\n		\n		\n			  Premature babies\n			    Accident victims\n		\n		\n			  And many more!\n			 \n		\n	\n\n\n\n\nWho benefits from your plasma donation?\n\n\n	\n		\n			  Burn victims\n			    Bleeding disorder patients\n		\n		\n			  Trauma patients\n			    Surgery patients\n		\n		\n			  And many more!\n			 \n		\n	\n\n\n\n\nWho benefits from your platelet donation?\n\n\n	\n		\n			  Cancer patients\n			    Open-heart surgery patients\n		\n		\n			  Burn victims\n			    Trauma patients\n		\n		\n			  And many more!\n			 \n		\n	\n\n \n\n\n\nMiller-Keystone Blood Center\n\nYour Donation.\n\nYour Community.\n\nYour Blood Center.\n\nGiveaPint.org
X-ALT-DESC;FMTTYPE=text/html:<div>&nbsp\;</div>\n\n<table align="center" style="background-color:rgb(255\, 0\, 0)\;line-height:20.8px\;">\n	<tbody>\n		<tr>\n			<td>\n			<p style="text-align: center\;"><strong><a href="https://donor.giveapint.org/donor/schedules/sponsor_code" target="_blank">&nbsp\;<span style="font-family: arial\; color: rgb(255\, 255\, 255)\; font-size: 20px\;"><strong>Click here&nbsp\;to register today!<br />\n			Use Sponsor Code 5128</strong></span></a></strong></p>\n\n			<div style="text-align: center\;">&nbsp\;</div>\n			</td>\n		</tr>\n	</tbody>\n</table>\n\n<p style="line-height: 20.8px\; text-align: center\;"><em>10 slots are available from 1PM - 4 PM.</em></p>\n\n<p style="line-height: 20.8px\;"><br />\n<strong>Miller-Keystone Blood Center now features&nbsp\;iScreen\, allowing donors to complete their Donor History questionnaire online\, the day of the blood drive. A secure&nbsp\;iScreen&nbsp\;ticket is generated\, that can be printed or emailed to your smart phone and presented at the blood drive!</strong><br />\n<br />\nBenefits of&nbsp\;iScreen:</p>\n\n<ul style="line-height: 20.8px\;">\n	<li>Less time spent at the blood drive</li>\n	<li>Answer the questions in private</li>\n	<li>Saves the environment by using the smart phone feature</li>\n</ul>\n\n<div style="line-height: 20.8px\;">&#8203\;&nbsp\;</div>\n\n<div style="line-height: 20.8px\;">Who benefits from your&nbsp\;<strong>whole blood</strong>&nbsp\;donation?</div>\n\n<table border="0" cellpadding="1" cellspacing="1" style="line-height: 20.8px\;">\n	<tbody>\n		<tr>\n			<td>&bull\;&nbsp\;Cancer patients</td>\n			<td>&nbsp\; &bull\;&nbsp\;Patients with internal bleeding</td>\n		</tr>\n		<tr>\n			<td>&bull\;&nbsp\;Premature babies</td>\n			<td>&nbsp\; &bull\;&nbsp\;Accident victims</td>\n		</tr>\n		<tr>\n			<td>&bull\;&nbsp\;And many more!</td>\n			<td>&nbsp\;</td>\n		</tr>\n	</tbody>\n</table>\n\n<div style="line-height: 20.8px\;"><br />\nWho benefits from your&nbsp\;<strong>plasma</strong>&nbsp\;donation?</div>\n\n<table border="0" cellpadding="1" cellspacing="1" style="line-height: 20.8px\;">\n	<tbody>\n		<tr>\n			<td>&bull\; Burn victims</td>\n			<td>&nbsp\; &bull\; Bleeding disorder patients</td>\n		</tr>\n		<tr>\n			<td>&bull\; Trauma patients</td>\n			<td>&nbsp\; &bull\; Surgery patients</td>\n		</tr>\n		<tr>\n			<td>&bull\; And many more!</td>\n			<td>&nbsp\;</td>\n		</tr>\n	</tbody>\n</table>\n\n<div style="line-height: 20.8px\;"><br />\nWho benefits from your&nbsp\;<strong>platelet</strong>&nbsp\;donation?</div>\n\n<table border="0" cellpadding="1" cellspacing="1" style="line-height: 20.8px\;">\n	<tbody>\n		<tr>\n			<td>&bull\; Cancer patients</td>\n			<td>&nbsp\; &bull\; Open-heart surgery patients</td>\n		</tr>\n		<tr>\n			<td>&bull\; Burn victims</td>\n			<td>&nbsp\; &bull\; Trauma patients</td>\n		</tr>\n		<tr>\n			<td>&bull\; And many more!</td>\n			<td>&nbsp\;</td>\n		</tr>\n	</tbody>\n</table>\n&nbsp\;\n\n<p style="text-align: center\;"><br />\nMiller-Keystone Blood Center<br />\nYour Donation.<br />\nYour Community.<br />\nYour Blood Center.<br />\n<a href="http://giveapint.org/" target="_blank">GiveaPint.org</a></p>\n
LOCATION:152 E. High St. Pottstown\, PA 19464 Please note that the blood mobile will be parked near the Chamber office\, at the Borough's transportation center.
UID:e.2183.847172
SEQUENCE:3
DTSTAMP:20260422T113401Z
URL:https://business.tricountyareachamber.com/events/details/chamber-blood-drive-10-24-2016-847172
END:VEVENT

END:VCALENDAR
