BEGIN:VCALENDAR
VERSION:2.0
PRODID:-//ChamberMaster//Event Calendar 2.0//EN
METHOD:PUBLISH
X-PUBLISHED-TTL:P3D
REFRESH-INTERVAL:P3D
CALSCALE:GREGORIAN
BEGIN:VEVENT
DTSTART:20220420T170000Z
DTEND:20220420T173000Z
X-MICROSOFT-CDO-ALLDAYEVENT:FALSE
SUMMARY:Chamber Chat Live | Amy Auwaerter from Montgomery County Community College
DESCRIPTION:Tune into this episode of Chamber Chat Live to hear from Amy Auwaerter from Montgomery County Community College to learn about an exciting upcoming event!
X-ALT-DESC;FMTTYPE=text/html:<span style="font-size:14px\;">Tune into this episode of Chamber Chat Live to hear from </span>Amy Auwaerter from Montgomery County Community College to learn about an exciting upcoming event!
LOCATION:Broadcast via Facebook\, Linkedin\, Twitter Live on the TCACC page on Wednesday\, April 13th at 1PM. Click here to follow our Facebook page. Broadcast is also available via LinkedIn Live on the TCACC page - Click here. Broadcast is also available on Twitter - Click here.
UID:e.2183.857663
SEQUENCE:3
DTSTAMP:20260420T175854Z
URL:https://business.tricountyareachamber.com/events/details/chamber-chat-live-amy-auwaerter-from-montgomery-county-community-college-857663
END:VEVENT

END:VCALENDAR
