BEGIN:VCALENDAR
VERSION:2.0
PRODID:-//ChamberMaster//Event Calendar 2.0//EN
METHOD:PUBLISH
X-PUBLISHED-TTL:P3D
REFRESH-INTERVAL:P3D
CALSCALE:GREGORIAN
BEGIN:VEVENT
DTSTART:20210111T180000Z
DTEND:20210111T183000Z
X-MICROSOFT-CDO-ALLDAYEVENT:FALSE
SUMMARY:Chamber Chat Live | Amy Styer Tahtabrounian of Styer Group
DESCRIPTION:Amy Styer Tahtabrounian is founder of Styer & Associates\, Inc.\, Interior Design\, and KAJ Architects\, LLC. Amy is Director of Interior Design and Managing Partner of the Architecture Group. Amy manages the day to day responsibilities for the organization including Business Development\, Operations and Client Communications.\n\n\n\nStyerGroup is a Design Build firm that offers unprecedented flexibility to its clients through its comprehensive and fully integrated architectural\, design and construction divisions. With such a broad palette of capabilities\, StyerGroup can custom-tailor which to employ for your project\, providing everything you need and nothing you don't. StyerGroup's "single point of contact" process enables us to complete complex projects while keeping them cost-efficient\, aesthetically pleasing and on schedule.\n\n\n\nVisit StyerGroup's Website\n\nConnect with Amy on LinkedIn
X-ALT-DESC;FMTTYPE=text/html:Amy Styer Tahtabrounian is founder of Styer &amp\; Associates\, Inc.\, Interior Design\, and KAJ Architects\, LLC. Amy is Director of Interior Design and Managing Partner of the Architecture Group. Amy manages the day to day responsibilities for the organization including Business Development\, Operations and Client Communications.<br />\n<br />\nStyerGroup is a Design Build firm that offers unprecedented flexibility to its clients through its comprehensive and fully integrated architectural\, design and construction divisions. With such a broad palette of capabilities\, StyerGroup can custom-tailor which to employ for your project\, providing everything you need and nothing you don&rsquo\;t. StyerGroup&rsquo\;s &ldquo\;single point of contact&rdquo\; process enables us to complete complex projects while keeping them cost-efficient\, aesthetically pleasing and on schedule.<br />\n<br />\n<a href="https://styergroup.com/">Visit StyerGroup&#39\;s Website</a><br />\n<a href="https://www.linkedin.com/in/amy-styer-tahtabrounian-310447a/">Connect with Amy on LinkedIn</a>
LOCATION:Broadcast via Facebook Live on the TCACC page on Monday\, January 11 at 1PM. Click here to follow our Facebook page.
UID:e.2183.856443
SEQUENCE:3
DTSTAMP:20260423T225348Z
URL:https://business.tricountyareachamber.com/events/details/chamber-chat-live-amy-styer-tahtabrounian-of-styer-group-856443
END:VEVENT

END:VCALENDAR
