BEGIN:VCALENDAR
VERSION:2.0
PRODID:-//ChamberMaster//Event Calendar 2.0//EN
METHOD:PUBLISH
X-PUBLISHED-TTL:P3D
REFRESH-INTERVAL:P3D
CALSCALE:GREGORIAN
BEGIN:VEVENT
DTSTART:20210127T180000Z
DTEND:20210127T183000Z
X-MICROSOFT-CDO-ALLDAYEVENT:FALSE
SUMMARY:Chamber Chat Live | Brian Pickell of KPInterface
DESCRIPTION:Join us for Chamber Chat Live with Brian Pickell of KPInterface!\n\n\n\nVisit KPInterface's website
X-ALT-DESC;FMTTYPE=text/html:Join us for Chamber Chat Live with Brian Pickell of KPInterface!<br />\n<br />\n<a href="https://www.kpinterface.com/">Visit KPInterface&#39\;s website</a>
LOCATION:Broadcast via Facebook Live on the TCACC page on Wednesday\, January 27 at 1PM. Click here to follow our Facebook page.
UID:e.2183.856449
SEQUENCE:3
DTSTAMP:20260423T225103Z
URL:https://business.tricountyareachamber.com/events/details/chamber-chat-live-brian-pickell-of-kpinterface-856449
END:VEVENT

END:VCALENDAR
